BEGIN:VCALENDAR
VERSION:2.0
PRODID:-//BMW Car Club GB - ECPv6.15.14//NONSGML v1.0//EN
CALSCALE:GREGORIAN
METHOD:PUBLISH
X-ORIGINAL-URL:https://staging.bmwcarclubgb.uk
X-WR-CALDESC:Events for BMW Car Club GB
REFRESH-INTERVAL;VALUE=DURATION:PT1H
X-Robots-Tag:noindex
X-PUBLISHED-TTL:PT1H
BEGIN:VTIMEZONE
TZID:Europe/London
BEGIN:DAYLIGHT
TZOFFSETFROM:+0000
TZOFFSETTO:+0100
TZNAME:BST
DTSTART:20220327T010000
END:DAYLIGHT
BEGIN:STANDARD
TZOFFSETFROM:+0100
TZOFFSETTO:+0000
TZNAME:GMT
DTSTART:20221030T010000
END:STANDARD
BEGIN:DAYLIGHT
TZOFFSETFROM:+0000
TZOFFSETTO:+0100
TZNAME:BST
DTSTART:20230326T010000
END:DAYLIGHT
BEGIN:STANDARD
TZOFFSETFROM:+0100
TZOFFSETTO:+0000
TZNAME:GMT
DTSTART:20231029T010000
END:STANDARD
BEGIN:DAYLIGHT
TZOFFSETFROM:+0000
TZOFFSETTO:+0100
TZNAME:BST
DTSTART:20240331T010000
END:DAYLIGHT
BEGIN:STANDARD
TZOFFSETFROM:+0100
TZOFFSETTO:+0000
TZNAME:GMT
DTSTART:20241027T010000
END:STANDARD
END:VTIMEZONE
BEGIN:VEVENT
DTSTART;TZID=Europe/London:20230525T193000
DTEND;TZID=Europe/London:20230525T220000
DTSTAMP:20260420T235233
CREATED:20230224T171243Z
LAST-MODIFIED:20230224T174938Z
UID:10000843-1685043000-1685052000@staging.bmwcarclubgb.uk
SUMMARY:Thames Regional Meetings every last Thursday of the Month
DESCRIPTION:Probably the nicest venue to have a meeting in the entire Car Club Regions   \nBut where : The Littlebury Hotel and Restaurant\, Kings End\nBicester\, Oxfordshire\, OX26 6DR \nTime : generally at 7.30pm and if its warm enough in the Garden \n \nPlenty of high class banter and expert help on all BMW car issues.
URL:https://staging.bmwcarclubgb.uk/event/thames-regional-meetings-every-last-thursday-of-the-month-from-april-27th/2023-05-25/
LOCATION:The Littlebury Hotel Bicester\, The Littlebury Hotel and Restaurant\, Kings End \, Oxfordshire\, OX26 6DR\, Bicester\, Oxon\, OX26 6DR\, United Kingdom
END:VEVENT
BEGIN:VEVENT
DTSTART;TZID=Europe/London:20230427T193000
DTEND;TZID=Europe/London:20230427T220000
DTSTAMP:20260420T235233
CREATED:20230224T171243Z
LAST-MODIFIED:20230224T174938Z
UID:10000842-1682623800-1682632800@staging.bmwcarclubgb.uk
SUMMARY:Thames Regional Meetings every last Thursday of the Month
DESCRIPTION:Probably the nicest venue to have a meeting in the entire Car Club Regions   \nBut where : The Littlebury Hotel and Restaurant\, Kings End\nBicester\, Oxfordshire\, OX26 6DR \nTime : generally at 7.30pm and if its warm enough in the Garden \n \nPlenty of high class banter and expert help on all BMW car issues.
URL:https://staging.bmwcarclubgb.uk/event/thames-regional-meetings-every-last-thursday-of-the-month-from-april-27th/2023-04-27/
LOCATION:The Littlebury Hotel Bicester\, The Littlebury Hotel and Restaurant\, Kings End \, Oxfordshire\, OX26 6DR\, Bicester\, Oxon\, OX26 6DR\, United Kingdom
END:VEVENT
END:VCALENDAR