BEGIN:VCALENDAR
VERSION:2.0
PRODID:-//BMW Car Club GB - ECPv6.15.14//NONSGML v1.0//EN
CALSCALE:GREGORIAN
METHOD:PUBLISH
X-WR-CALNAME:BMW Car Club GB
X-ORIGINAL-URL:https://staging.bmwcarclubgb.uk
X-WR-CALDESC:Events for BMW Car Club GB
REFRESH-INTERVAL;VALUE=DURATION:PT1H
X-Robots-Tag:noindex
X-PUBLISHED-TTL:PT1H
BEGIN:VTIMEZONE
TZID:Europe/London
BEGIN:DAYLIGHT
TZOFFSETFROM:+0000
TZOFFSETTO:+0100
TZNAME:BST
DTSTART:20220327T010000
END:DAYLIGHT
BEGIN:STANDARD
TZOFFSETFROM:+0100
TZOFFSETTO:+0000
TZNAME:GMT
DTSTART:20221030T010000
END:STANDARD
BEGIN:DAYLIGHT
TZOFFSETFROM:+0000
TZOFFSETTO:+0100
TZNAME:BST
DTSTART:20230326T010000
END:DAYLIGHT
BEGIN:STANDARD
TZOFFSETFROM:+0100
TZOFFSETTO:+0000
TZNAME:GMT
DTSTART:20231029T010000
END:STANDARD
BEGIN:DAYLIGHT
TZOFFSETFROM:+0000
TZOFFSETTO:+0100
TZNAME:BST
DTSTART:20240331T010000
END:DAYLIGHT
BEGIN:STANDARD
TZOFFSETFROM:+0100
TZOFFSETTO:+0000
TZNAME:GMT
DTSTART:20241027T010000
END:STANDARD
END:VTIMEZONE
BEGIN:VEVENT
DTSTART;TZID=Europe/London:20230523T170000
DTEND;TZID=Europe/London:20230523T190000
DTSTAMP:20260421T005631
CREATED:20230317T154036Z
LAST-MODIFIED:20230323T175837Z
UID:10001026-1684861200-1684868400@staging.bmwcarclubgb.uk
SUMMARY:23rd May Tuesday - Caffeine and Machine.  Meet 1700hrs No Charge
DESCRIPTION:23rd May now a Tuesday – Caffeine and Machine.   \nOpen to all Members and BMW ownersAs you might guess wrong day selected but Week ends are very busy and strict time limit imposed so impractical for some. We now meet at 1700hrs on Tuesday 23rd May. No charge applicable. \nWe go again!!  Address : Houndshill House Banbury Road\, Ettington\, Stratford-upon-Avon CV37 7NS England.  Meet 1700hrs \nMEET 1700hrs at C&M Tuesday 23rd May \n \nWhere Strangers become friends! \n \n \nBM’s at Caffeine and Machine \n \nA great evening out for all and you even end liking the Ferrari’s and Porsche Super Cars
URL:https://staging.bmwcarclubgb.uk/event/n-evening-to-remember/
LOCATION:https://caffeineandmachine.com/\, Houndshill House Banbury Road\,\, Ettington\, Stratford-upon-Avon\, Warks\, CV37 7NS\, United Kingdom
ORGANIZER;CN="Tony Skerrett Central":MAILTO:bmwtony@outlook.com
END:VEVENT
END:VCALENDAR