BEGIN:VCALENDAR
VERSION:2.0
PRODID:-//BMW Car Club GB - ECPv6.15.14//NONSGML v1.0//EN
CALSCALE:GREGORIAN
METHOD:PUBLISH
X-WR-CALNAME:BMW Car Club GB
X-ORIGINAL-URL:https://staging.bmwcarclubgb.uk
X-WR-CALDESC:Events for BMW Car Club GB
REFRESH-INTERVAL;VALUE=DURATION:PT1H
X-Robots-Tag:noindex
X-PUBLISHED-TTL:PT1H
BEGIN:VTIMEZONE
TZID:Europe/London
BEGIN:DAYLIGHT
TZOFFSETFROM:+0000
TZOFFSETTO:+0100
TZNAME:BST
DTSTART:20210328T010000
END:DAYLIGHT
BEGIN:STANDARD
TZOFFSETFROM:+0100
TZOFFSETTO:+0000
TZNAME:GMT
DTSTART:20211031T010000
END:STANDARD
BEGIN:DAYLIGHT
TZOFFSETFROM:+0000
TZOFFSETTO:+0100
TZNAME:BST
DTSTART:20220327T010000
END:DAYLIGHT
BEGIN:STANDARD
TZOFFSETFROM:+0100
TZOFFSETTO:+0000
TZNAME:GMT
DTSTART:20221030T010000
END:STANDARD
BEGIN:DAYLIGHT
TZOFFSETFROM:+0000
TZOFFSETTO:+0100
TZNAME:BST
DTSTART:20230326T010000
END:DAYLIGHT
BEGIN:STANDARD
TZOFFSETFROM:+0100
TZOFFSETTO:+0000
TZNAME:GMT
DTSTART:20231029T010000
END:STANDARD
END:VTIMEZONE
BEGIN:VEVENT
DTSTART;VALUE=DATE:20220424
DTEND;VALUE=DATE:20220425
DTSTAMP:20260424T094815
CREATED:20210921T150709Z
LAST-MODIFIED:20210921T151003Z
UID:10000599-1650758400-1650844799@staging.bmwcarclubgb.uk
SUMMARY:SOUTHERN CONCOURS 2022
DESCRIPTION:The 2022 Southern Concours & General BMW Gathering is going to be held on Sunday 24th April at Sherborne Castle in Dorset. \nThis will be as usual a Regional Concours Event & Show & Shine event to cater for both interests\, however the event is open to the whole Club and it would be great to see you all there. \n \nThe Event sponsored by Autospray VSS Ltd \n \nPlease keep checking back to this page for further information and also the newsletters\, social media and the Club magazine Straight Six. \nIn the meantime if you have any questions regarding this event or Concours please contact Nigel Smith 07970 897644 or email\, nigel.autospray@btconnect.com
URL:https://staging.bmwcarclubgb.uk/event/southern-concours-2022/
LOCATION:Sherborne Castle\, New Road\, Sherborne\, Dorset\, DT9 5NR
CATEGORIES:Concours,Fun,Future Events,Shows,Western
ATTACH;FMTTYPE=image/jpeg:https://staging.bmwcarclubgb.uk/wp-content/uploads/2021/09/Sherborne-2.jpg
END:VEVENT
END:VCALENDAR