BEGIN:VCALENDAR
VERSION:2.0
PRODID:-//BMW Car Club GB - ECPv6.15.14//NONSGML v1.0//EN
CALSCALE:GREGORIAN
METHOD:PUBLISH
X-ORIGINAL-URL:https://staging.bmwcarclubgb.uk
X-WR-CALDESC:Events for BMW Car Club GB
REFRESH-INTERVAL;VALUE=DURATION:PT1H
X-Robots-Tag:noindex
X-PUBLISHED-TTL:PT1H
BEGIN:VTIMEZONE
TZID:Europe/London
BEGIN:DAYLIGHT
TZOFFSETFROM:+0000
TZOFFSETTO:+0100
TZNAME:BST
DTSTART:20240331T010000
END:DAYLIGHT
BEGIN:STANDARD
TZOFFSETFROM:+0100
TZOFFSETTO:+0000
TZNAME:GMT
DTSTART:20241027T010000
END:STANDARD
BEGIN:DAYLIGHT
TZOFFSETFROM:+0000
TZOFFSETTO:+0100
TZNAME:BST
DTSTART:20250330T010000
END:DAYLIGHT
BEGIN:STANDARD
TZOFFSETFROM:+0100
TZOFFSETTO:+0000
TZNAME:GMT
DTSTART:20251026T010000
END:STANDARD
BEGIN:DAYLIGHT
TZOFFSETFROM:+0000
TZOFFSETTO:+0100
TZNAME:BST
DTSTART:20260329T010000
END:DAYLIGHT
BEGIN:STANDARD
TZOFFSETFROM:+0100
TZOFFSETTO:+0000
TZNAME:GMT
DTSTART:20261025T010000
END:STANDARD
END:VTIMEZONE
BEGIN:VEVENT
DTSTART;TZID=Europe/London:20250511T080000
DTEND;TZID=Europe/London:20250511T170000
DTSTAMP:20260421T090138
CREATED:20250428T102035Z
LAST-MODIFIED:20250428T102035Z
UID:10001710-1746950400-1746982800@staging.bmwcarclubgb.uk
SUMMARY:BMWs of 20th Century
DESCRIPTION:For tickets please see BMWs of the 20th Century Tickets.
URL:https://staging.bmwcarclubgb.uk/event/bmws-of-20th-century/
LOCATION:Denbies Wine Estate\, London Road\, Dorking\, Surrey\, RH5 6AA
CATEGORIES:Wessex
ORGANIZER;CN="Julian Pickering":MAILTO:wessex@bmwcarclubgb.co.uk
END:VEVENT
END:VCALENDAR