BEGIN:VCALENDAR
VERSION:2.0
PRODID:-//BMW Car Club GB - ECPv6.15.14//NONSGML v1.0//EN
CALSCALE:GREGORIAN
METHOD:PUBLISH
X-WR-CALNAME:BMW Car Club GB
X-ORIGINAL-URL:https://staging.bmwcarclubgb.uk
X-WR-CALDESC:Events for BMW Car Club GB
REFRESH-INTERVAL;VALUE=DURATION:PT1H
X-Robots-Tag:noindex
X-PUBLISHED-TTL:PT1H
BEGIN:VTIMEZONE
TZID:Europe/London
BEGIN:DAYLIGHT
TZOFFSETFROM:+0000
TZOFFSETTO:+0100
TZNAME:BST
DTSTART:20230326T010000
END:DAYLIGHT
BEGIN:STANDARD
TZOFFSETFROM:+0100
TZOFFSETTO:+0000
TZNAME:GMT
DTSTART:20231029T010000
END:STANDARD
BEGIN:DAYLIGHT
TZOFFSETFROM:+0000
TZOFFSETTO:+0100
TZNAME:BST
DTSTART:20240331T010000
END:DAYLIGHT
BEGIN:STANDARD
TZOFFSETFROM:+0100
TZOFFSETTO:+0000
TZNAME:GMT
DTSTART:20241027T010000
END:STANDARD
BEGIN:DAYLIGHT
TZOFFSETFROM:+0000
TZOFFSETTO:+0100
TZNAME:BST
DTSTART:20250330T010000
END:DAYLIGHT
BEGIN:STANDARD
TZOFFSETFROM:+0100
TZOFFSETTO:+0000
TZNAME:GMT
DTSTART:20251026T010000
END:STANDARD
END:VTIMEZONE
BEGIN:VEVENT
DTSTART;TZID=Europe/London:20241108T080000
DTEND;TZID=Europe/London:20241108T170000
DTSTAMP:20260423T011700
CREATED:20240628T130352Z
LAST-MODIFIED:20241031T104546Z
UID:10001379-1731052800-1731085200@staging.bmwcarclubgb.uk
SUMMARY:Oulton Park Trackday
DESCRIPTION:Friday 8th November\nJoin us at our Oulton Park trackday.\nIf you are a BMWCC member\, please ensure you are logged in for the member’s rate of £190. \nAll BMW Car Club trackdays are open-pit lane with restricted numbers\, to ensure you get the most out of the day.\nTuition is also available on request. \nWe pride ourselves for clean and polite driving\, so our trackdays are perfect for novices. \nTo book online\, please visit https://bmwcarclubgb.uk/shop/brands-hatch/ or call the Club Office on 01970 267 989.
URL:https://staging.bmwcarclubgb.uk/event/oulton-park-trackday-2/
LOCATION:Oulton Park Circuit\, Little Budworth\, Tarporley\, CW6 9BW\, United Kingdom
CATEGORIES:Future Events,South East,Track Days
ATTACH;FMTTYPE=image/png:https://staging.bmwcarclubgb.uk/wp-content/uploads/2024/06/FRIDAY-3RD-MAY-2.png
END:VEVENT
BEGIN:VEVENT
DTSTART;TZID=Europe/London:20241108T080000
DTEND;TZID=Europe/London:20241110T170000
DTSTAMP:20260423T011700
CREATED:20240702T095216Z
LAST-MODIFIED:20240702T100756Z
UID:10001381-1731052800-1731258000@staging.bmwcarclubgb.uk
SUMMARY:Lancaster Insurance Classic Motor Show 2024
DESCRIPTION:NEC Birmingham\, 8 – 10 November \nCelebrating 40 Years of The Classic Motor Show \nThis year marks the 40th anniversary of The Lancaster Insurance Classic Motor Show and to celebrate they have some exciting new highlights planned. \nIndulge your passion for classic vehicles at the ultimate season finale – whether you’re a classic car or bike owner\, collector\, enthusiast or someone with a love for timeless automobiles. \nBook your tickets today at necclassicmotorshow.com and use Club Code CCCNOV239 to save £4 off single-day adult tickets or £2 off family\, child or multi-day tickets. \nDiscount applied to Advance prices if booked before midnight on Thursday 7th November or Show Open prices thereafter.
URL:https://staging.bmwcarclubgb.uk/event/lancaster-insurance-classic-motor-show-2024/
LOCATION:NEC Birmingham\, North Ave\, Marston Green\, Birmingham\, West Midlands\, B40 1NT\, United Kingdom
CATEGORIES:02,1 Series,2 Series,3 Series,4 Series,5 Series,6 Series,7 Series,8 Series,All Regions,All Series,Alpina,BMW Historic Motor Club,Central,Central West,Channel Islands,Cheshire & Staffs,Concours,Cornwall,Cotswold,Cumbria,Devon,E3 and E9,East Anglia,Eastern,Future Events,i Series,Ireland,London,M Power,Mini,Modified Register,Motorsport Register,National Event,North East,North West,Overseas,Scottish,Series,Sharknose Collection,Shows,South East,Suffolk,Thames,Thames Region,Track Days,Wales - Mid & Shropshire,Wales - North,Wales - South,Wessex,Western,X Series,Z Series
ATTACH;FMTTYPE=image/jpeg:https://staging.bmwcarclubgb.uk/wp-content/uploads/2024/07/904799_CMS03_Advert_Carclub_A5_L_2024_AW_CROPPED.jpg
END:VEVENT
END:VCALENDAR