BEGIN:VCALENDAR
VERSION:2.0
PRODID:-//BMW Car Club GB - ECPv6.15.14//NONSGML v1.0//EN
CALSCALE:GREGORIAN
METHOD:PUBLISH
X-WR-CALNAME:BMW Car Club GB
X-ORIGINAL-URL:https://staging.bmwcarclubgb.uk
X-WR-CALDESC:Events for BMW Car Club GB
REFRESH-INTERVAL;VALUE=DURATION:PT1H
X-Robots-Tag:noindex
X-PUBLISHED-TTL:PT1H
BEGIN:VTIMEZONE
TZID:Europe/London
BEGIN:DAYLIGHT
TZOFFSETFROM:+0000
TZOFFSETTO:+0100
TZNAME:BST
DTSTART:20240331T010000
END:DAYLIGHT
BEGIN:STANDARD
TZOFFSETFROM:+0100
TZOFFSETTO:+0000
TZNAME:GMT
DTSTART:20241027T010000
END:STANDARD
BEGIN:DAYLIGHT
TZOFFSETFROM:+0000
TZOFFSETTO:+0100
TZNAME:BST
DTSTART:20250330T010000
END:DAYLIGHT
BEGIN:STANDARD
TZOFFSETFROM:+0100
TZOFFSETTO:+0000
TZNAME:GMT
DTSTART:20251026T010000
END:STANDARD
BEGIN:DAYLIGHT
TZOFFSETFROM:+0000
TZOFFSETTO:+0100
TZNAME:BST
DTSTART:20260329T010000
END:DAYLIGHT
BEGIN:STANDARD
TZOFFSETFROM:+0100
TZOFFSETTO:+0000
TZNAME:GMT
DTSTART:20261025T010000
END:STANDARD
END:VTIMEZONE
BEGIN:VEVENT
DTSTART;TZID=Europe/London:20250810T100000
DTEND;TZID=Europe/London:20250810T113000
DTSTAMP:20260421T142657
CREATED:20250720T210254Z
LAST-MODIFIED:20250720T210254Z
UID:10001738-1754820000-1754825400@staging.bmwcarclubgb.uk
SUMMARY:North East Region Breakfast Meet
DESCRIPTION:Our next monthly breakfast meeting will be on Sunday 10th August 2025. We meet from 10.00am to 11.30am at Black Horse Beamish\, Red Row\, Beamish\, Co. Durham\, DH9 0RW. Please be there for 10am prompt if you want to join us for breakfast at discounted club rates. Please help us by clicking ‘going’ on the Facebook event so that we can pass on numbers to the pub. Arrive early if you want a good parking spot ! \nThe Black Horse Beamish is just a short distance off the A1 so is easy to get to and has plenty of parking. We usually have a good variety of Alpinas\, BMWs and Modern Minis – classics\, moderns\, daily drivers and a scattering of Ms. Non-BMWs are also OK! Look for the big group somewhere in the pub building\, or hanging around the cars down by the Car Barn on a sunny day. This meeting is open to members and non-members.
URL:https://staging.bmwcarclubgb.uk/event/north-east-region-breakfast-meet-47/
LOCATION:Black Horse Beamish\, Red Row\, Beamish\, Red Row Beamish DH9 0RW\, United Kingdom
CATEGORIES:North East
ATTACH;FMTTYPE=image/jpeg:https://staging.bmwcarclubgb.uk/wp-content/uploads/2025/04/Black-Horse-May-2024-scaled.jpg
END:VEVENT
BEGIN:VEVENT
DTSTART;TZID=Europe/London:20250825T100000
DTEND;TZID=Europe/London:20250825T150000
DTSTAMP:20260421T142657
CREATED:20250720T205254Z
LAST-MODIFIED:20250720T205254Z
UID:10001737-1756116000-1756134000@staging.bmwcarclubgb.uk
SUMMARY:Durham Classic Car Show
DESCRIPTION:We will again be attending the fantastic Durham Classic Car Show on August bank holiday Monday\, 25 August 2025. \nChange of location for us this year with us being sited on Palace Green in front of the Cathedral. \nDue to space restrictions we can have a maximum of 10 cars on our stand. \nPlease email greg@bmwcarclubgb.co.uk if you’re interested in exhibiting.
URL:https://staging.bmwcarclubgb.uk/event/durham-classic-car-show-2/
CATEGORIES:North East
ATTACH;FMTTYPE=image/jpeg:https://staging.bmwcarclubgb.uk/wp-content/uploads/2025/07/Durham-2025.jpg
END:VEVENT
BEGIN:VEVENT
DTSTART;TZID=Europe/London:20250830T100000
DTEND;TZID=Europe/London:20250830T120000
DTSTAMP:20260421T142657
CREATED:20250806T101547Z
LAST-MODIFIED:20250806T101547Z
UID:10001803-1756548000-1756555200@staging.bmwcarclubgb.uk
SUMMARY:Cars and Coffee - Vertu BMW York
DESCRIPTION:Vertu BMW have invited us to a Cars and Coffee event at their York dealership. We’ll have a designated parking area with a selection of their used and new cars to drool over. A coffee van will be there to provide the drinks. So come and join us for cars\, coffee and a catch-up.
URL:https://staging.bmwcarclubgb.uk/event/cars-and-coffee-vertu-bmw-york/
CATEGORIES:Eastern,North East
END:VEVENT
END:VCALENDAR