BEGIN:VCALENDAR
VERSION:2.0
PRODID:-//BMW Car Club GB - ECPv6.15.14//NONSGML v1.0//EN
CALSCALE:GREGORIAN
METHOD:PUBLISH
X-WR-CALNAME:BMW Car Club GB
X-ORIGINAL-URL:https://staging.bmwcarclubgb.uk
X-WR-CALDESC:Events for BMW Car Club GB
REFRESH-INTERVAL;VALUE=DURATION:PT1H
X-Robots-Tag:noindex
X-PUBLISHED-TTL:PT1H
BEGIN:VTIMEZONE
TZID:Europe/London
BEGIN:DAYLIGHT
TZOFFSETFROM:+0000
TZOFFSETTO:+0100
TZNAME:BST
DTSTART:20240331T010000
END:DAYLIGHT
BEGIN:STANDARD
TZOFFSETFROM:+0100
TZOFFSETTO:+0000
TZNAME:GMT
DTSTART:20241027T010000
END:STANDARD
BEGIN:DAYLIGHT
TZOFFSETFROM:+0000
TZOFFSETTO:+0100
TZNAME:BST
DTSTART:20250330T010000
END:DAYLIGHT
BEGIN:STANDARD
TZOFFSETFROM:+0100
TZOFFSETTO:+0000
TZNAME:GMT
DTSTART:20251026T010000
END:STANDARD
BEGIN:DAYLIGHT
TZOFFSETFROM:+0000
TZOFFSETTO:+0100
TZNAME:BST
DTSTART:20260329T010000
END:DAYLIGHT
BEGIN:STANDARD
TZOFFSETFROM:+0100
TZOFFSETTO:+0000
TZNAME:GMT
DTSTART:20261025T010000
END:STANDARD
END:VTIMEZONE
BEGIN:VEVENT
DTSTART;TZID=Europe/London:20250308T090000
DTEND;TZID=Europe/London:20250308T120000
DTSTAMP:20260423T033955
CREATED:20250105T150024Z
LAST-MODIFIED:20250105T150024Z
UID:10001609-1741424400-1741435200@staging.bmwcarclubgb.uk
SUMMARY:German Car Day - The Motorist\, New Lennerton Lane\, Sherburn in Elmet\, LS25 6JE
DESCRIPTION:The Motorist holds regular social days. On March 8th\, the social day is for all things German and Eastern Region has reserved a number of parking spaces for BMW Car Club members. \nThe socials start from 9am and end at 6pm. Arrive early to make sure you grab one of our reserved parking spaces\, otherwise you will be parked in general parking. In order to be able to park in the reserved parking\, you should be clearly displaying a BMW Car Club sticker in your window or have a copy Straight Six on the dash so that we can make sure only club members are parked in our reserved area. \nThe Eastern Region team will be around from 9am until midday.
URL:https://staging.bmwcarclubgb.uk/event/german-car-day-the-motorist-new-lennerton-lane-sherburn-in-elmet-ls25-6je/
LOCATION:The Motorist\, Sherburn Aero club\, Sherburn in elmut\, North yorkshire
CATEGORIES:Eastern,Meet up,Meets
ATTACH;FMTTYPE=image/png:https://staging.bmwcarclubgb.uk/wp-content/uploads/2025/01/Mar8_TheMotorist.png
ORGANIZER;CN="Eastern region":MAILTO:eastern@bmwcarclub.co.uk
END:VEVENT
BEGIN:VEVENT
DTSTART;TZID=Europe/London:20250313T183000
DTEND;TZID=Europe/London:20250313T220000
DTSTAMP:20260423T033955
CREATED:20250104T181119Z
LAST-MODIFIED:20250105T141706Z
UID:10001491-1741890600-1741903200@staging.bmwcarclubgb.uk
SUMMARY:Monthly Evening Meet - The British Oak\, Mosborough\, Sheffield
DESCRIPTION:Join the Eastern Region for a monthly evening get together at The British Oak\, Mosborough\, Sheffield S20 5AY from 6.30pm to 10pm. \nThe evening meet happens on the second Thursday of every month. \nThe British Oak has a wide range of drinks on offer along with a menu full of Great British Classics. \nWe have our own reserved area within the pub but on those warm evenings you can find us outside in the large and inviting beer garden. \nThe British Oak has two sizeable car parks available and we try to park in the larger car park at the rear of the pub. \nCome along and join us for some friendly conversation and some obligatory tyre kicking (weather permitting). Don’t be shy\, come and say Hi !!! \n 
URL:https://staging.bmwcarclubgb.uk/event/monthly-evening-meet-the-british-oak-mosborough-sheffield/2025-03-13/
LOCATION:The British Oak\, Sheffield\, 1 Mosborough Moor\, Sheffield\, South Yorkshire\, S20 5AY\, United Kingdom
CATEGORIES:Eastern,Meet up,Meets
ATTACH;FMTTYPE=image/jpeg:https://staging.bmwcarclubgb.uk/wp-content/uploads/2024/12/The-British-Oak-1.jpeg
ORGANIZER;CN="Eastern region":MAILTO:eastern@bmwcarclub.co.uk
END:VEVENT
BEGIN:VEVENT
DTSTART;TZID=Europe/London:20250315T100000
DTEND;TZID=Europe/London:20250315T120000
DTSTAMP:20260423T033955
CREATED:20250105T151147Z
LAST-MODIFIED:20250108T163017Z
UID:10001615-1742032800-1742040000@staging.bmwcarclubgb.uk
SUMMARY:Breakfast Meet - Great Northern Classics\, Osmaston Road\, Derby\, DE24 8AE
DESCRIPTION:Following on from the successful breakfast meets in 2024\, Eastern Region returns to the Great Northern Classics for more breakfast meets during 2025. The breakfast meets run from 10am to 12pm. \nCafe Miura is available for drinks and breakfast baps and pastries. \nExpect good company and great cars. If you arrive early\, you may have the chance to park in the prestigious parking spot in front of the doors. \n 
URL:https://staging.bmwcarclubgb.uk/event/breakfast-meet-great-northern-classics-osmaston-road-derby-de24-8ae/2025-03-15/
LOCATION:Great Northern Classics\, 274–278 Osmaston Road\, Derby\, DE24 8AE\, United Kingdom
CATEGORIES:Eastern
ATTACH;FMTTYPE=image/jpeg:https://staging.bmwcarclubgb.uk/wp-content/uploads/2025/01/20240720_092630-scaled.jpg
ORGANIZER;CN="Richard Rixham":MAILTO:eastern@bmwcarclubgb.co.uk
END:VEVENT
END:VCALENDAR