BEGIN:VCALENDAR
VERSION:2.0
PRODID:-//BMW Car Club GB - ECPv6.15.14//NONSGML v1.0//EN
CALSCALE:GREGORIAN
METHOD:PUBLISH
X-ORIGINAL-URL:https://staging.bmwcarclubgb.uk
X-WR-CALDESC:Events for BMW Car Club GB
REFRESH-INTERVAL;VALUE=DURATION:PT1H
X-Robots-Tag:noindex
X-PUBLISHED-TTL:PT1H
BEGIN:VTIMEZONE
TZID:Europe/London
BEGIN:DAYLIGHT
TZOFFSETFROM:+0000
TZOFFSETTO:+0100
TZNAME:BST
DTSTART:20240331T010000
END:DAYLIGHT
BEGIN:STANDARD
TZOFFSETFROM:+0100
TZOFFSETTO:+0000
TZNAME:GMT
DTSTART:20241027T010000
END:STANDARD
BEGIN:DAYLIGHT
TZOFFSETFROM:+0000
TZOFFSETTO:+0100
TZNAME:BST
DTSTART:20250330T010000
END:DAYLIGHT
BEGIN:STANDARD
TZOFFSETFROM:+0100
TZOFFSETTO:+0000
TZNAME:GMT
DTSTART:20251026T010000
END:STANDARD
BEGIN:DAYLIGHT
TZOFFSETFROM:+0000
TZOFFSETTO:+0100
TZNAME:BST
DTSTART:20260329T010000
END:DAYLIGHT
BEGIN:STANDARD
TZOFFSETFROM:+0100
TZOFFSETTO:+0000
TZNAME:GMT
DTSTART:20261025T010000
END:STANDARD
END:VTIMEZONE
BEGIN:VEVENT
DTSTART;TZID=Europe/London:20250309T100000
DTEND;TZID=Europe/London:20250309T123000
DTSTAMP:20260420T020237
CREATED:20250223T172501Z
LAST-MODIFIED:20250223T172501Z
UID:10001650-1741514400-1741523400@staging.bmwcarclubgb.uk
SUMMARY:North East Region Breakfast Meet
DESCRIPTION:Our next monthly breakfast meeting will be on Sunday 9th March 2025. We meet from 10.00am to 11.30am at Black Horse Beamish\, Red Row\, Beamish\, Co. Durham\, DH9 0RW. Please be there for 10am prompt if you want to join us for breakfast at discounted club rates. Please help us by clicking ‘going’ on the Facebook event so that we can pass on numbers to the pub. Arrive early if you want a good parking spot ! \nThe Black Horse Beamish is just a short distance off the A1 so is easy to get to and has plenty of parking. We usually have a good variety of Alpinas\, BMWs and Modern Minis – classics\, moderns\, daily drivers and a scattering of Ms. Non-BMWs are also OK! Look for the big group somewhere in the pub building\, or hanging around the cars down by the Car Barn on a sunny day. This meeting is open to members and non-members.
URL:https://staging.bmwcarclubgb.uk/event/north-east-region-breakfast-meet-42/
LOCATION:Black Horse Beamish\, Red Row\, Beamish\, Red Row Beamish DH9 0RW\, United Kingdom
CATEGORIES:North East
ATTACH;FMTTYPE=image/jpeg:https://staging.bmwcarclubgb.uk/wp-content/uploads/2025/02/Black-Horse-Dec-2024-2-scaled.jpg
END:VEVENT
BEGIN:VEVENT
DTSTART;TZID=Europe/London:20250309T100000
DTEND;TZID=Europe/London:20250309T130000
DTSTAMP:20260420T020237
CREATED:20241111T185628Z
LAST-MODIFIED:20241217T114231Z
UID:10001422-1741514400-1741525200@staging.bmwcarclubgb.uk
SUMMARY:Group 1 Hindhead BMW visit
DESCRIPTION:This event had to be postponed unfortunately owing to bad weather on Sunday 8th December.  Wessex Region has been invited to an open morning at Group 1 Hindhead BMW on the revised date of Sunday 9th March starting at 10am.  Bacon rolls and coffee will be provided and we will be given a tour of the garage facilities (formerly Barons).  It should be possible to test drive some of their demonstrator fleet of cars.  If you would like to attend this event please email confirmation to Julian Pickering (wessex@bmwcarclubgb.co.uk). \nNumbers will be limited but priority will be given to members who booked to attend on the original event date.
URL:https://staging.bmwcarclubgb.uk/event/group-1-hindhead-bmw-visit/
LOCATION:Group 1 Hindhead BMW\, Portsmouth Road\, A3 Southbound\, Hindhead\, Surrey\, GU26 6FZ\, United Kingdom
CATEGORIES:Wessex
ORGANIZER;CN="Julian Pickering":MAILTO:wessex@bmwcarclubgb.co.uk
END:VEVENT
END:VCALENDAR