BEGIN:VCALENDAR
VERSION:2.0
PRODID:-//BMW Car Club GB - ECPv6.15.14//NONSGML v1.0//EN
CALSCALE:GREGORIAN
METHOD:PUBLISH
X-WR-CALNAME:BMW Car Club GB
X-ORIGINAL-URL:https://staging.bmwcarclubgb.uk
X-WR-CALDESC:Events for BMW Car Club GB
REFRESH-INTERVAL;VALUE=DURATION:PT1H
X-Robots-Tag:noindex
X-PUBLISHED-TTL:PT1H
BEGIN:VTIMEZONE
TZID:Europe/London
BEGIN:DAYLIGHT
TZOFFSETFROM:+0000
TZOFFSETTO:+0100
TZNAME:BST
DTSTART:20240331T010000
END:DAYLIGHT
BEGIN:STANDARD
TZOFFSETFROM:+0100
TZOFFSETTO:+0000
TZNAME:GMT
DTSTART:20241027T010000
END:STANDARD
BEGIN:DAYLIGHT
TZOFFSETFROM:+0000
TZOFFSETTO:+0100
TZNAME:BST
DTSTART:20250330T010000
END:DAYLIGHT
BEGIN:STANDARD
TZOFFSETFROM:+0100
TZOFFSETTO:+0000
TZNAME:GMT
DTSTART:20251026T010000
END:STANDARD
BEGIN:DAYLIGHT
TZOFFSETFROM:+0000
TZOFFSETTO:+0100
TZNAME:BST
DTSTART:20260329T010000
END:DAYLIGHT
BEGIN:STANDARD
TZOFFSETFROM:+0100
TZOFFSETTO:+0000
TZNAME:GMT
DTSTART:20261025T010000
END:STANDARD
END:VTIMEZONE
BEGIN:VEVENT
DTSTART;TZID=Europe/London:20250126T100000
DTEND;TZID=Europe/London:20250126T120000
DTSTAMP:20260421T124434
CREATED:20250120T085220Z
LAST-MODIFIED:20250120T085220Z
UID:10001635-1737885600-1737892800@staging.bmwcarclubgb.uk
SUMMARY:North East visit to The Wheel Specialist
DESCRIPTION:We have arranged a visit to BMWCCGB’s partner\, The Wheel Specialist\, at Westerhope Newcastle\, NE5 1BF\, on Sunday 26th January starting at 10:00am. The visit is expected to last a couple of hours. The team will take us through the processes involved in wheel repair and refurbishment\, including shot blasting\, preparation\, and diamond cutting.Due to the size of the venue we need to limit numbers to a maximum of 25 participants\, so if you are going\, please confirm as GOING and add a comment on the DISCUSSION tab to the event on the North East Region Facebook group.
URL:https://staging.bmwcarclubgb.uk/event/north-east-visit-to-the-wheel-specialist/
CATEGORIES:North East
ATTACH;FMTTYPE=image/jpeg:https://staging.bmwcarclubgb.uk/wp-content/uploads/2025/01/Wheel-Specialist.jpg
END:VEVENT
END:VCALENDAR