BEGIN:VCALENDAR
VERSION:2.0
PRODID:-//BMW Car Club GB - ECPv6.15.14//NONSGML v1.0//EN
CALSCALE:GREGORIAN
METHOD:PUBLISH
X-ORIGINAL-URL:https://staging.bmwcarclubgb.uk
X-WR-CALDESC:Events for BMW Car Club GB
REFRESH-INTERVAL;VALUE=DURATION:PT1H
X-Robots-Tag:noindex
X-PUBLISHED-TTL:PT1H
BEGIN:VTIMEZONE
TZID:Europe/London
BEGIN:DAYLIGHT
TZOFFSETFROM:+0000
TZOFFSETTO:+0100
TZNAME:BST
DTSTART:20230326T010000
END:DAYLIGHT
BEGIN:STANDARD
TZOFFSETFROM:+0100
TZOFFSETTO:+0000
TZNAME:GMT
DTSTART:20231029T010000
END:STANDARD
BEGIN:DAYLIGHT
TZOFFSETFROM:+0000
TZOFFSETTO:+0100
TZNAME:BST
DTSTART:20240331T010000
END:DAYLIGHT
BEGIN:STANDARD
TZOFFSETFROM:+0100
TZOFFSETTO:+0000
TZNAME:GMT
DTSTART:20241027T010000
END:STANDARD
BEGIN:DAYLIGHT
TZOFFSETFROM:+0000
TZOFFSETTO:+0100
TZNAME:BST
DTSTART:20250330T010000
END:DAYLIGHT
BEGIN:STANDARD
TZOFFSETFROM:+0100
TZOFFSETTO:+0000
TZNAME:GMT
DTSTART:20251026T010000
END:STANDARD
END:VTIMEZONE
BEGIN:VEVENT
DTSTART;VALUE=DATE:20240101
DTEND;VALUE=DATE:20250101
DTSTAMP:20260425T124514
CREATED:20230710T143226Z
LAST-MODIFIED:20241122T165022Z
UID:10001063-1704067200-1735689599@staging.bmwcarclubgb.uk
SUMMARY:Devon Region Events November-December 2024 - UPDATED 22/11/24
DESCRIPTION:This is an events diary for the 2024 season. It will act as a single list of all the events that the Devon Region of the BMW Car Club GB will be organising / attending as a club along with events where we will not be attending as a club but may be of interest to members. The latter events will be noted accordingly and it will be for individual members to make the booking arrangements. Dates and details will be updated as they are confirmed by the organisers\, along with being given their own dedicated event on the Events page if needed. \nPlease note that where events are organised by third parties i.e. not the BMW Car Club GB or one of its Regions\, the information provided below is reproduced in good faith from those external sources. Where we are not attending as a club\, it is up to those interested in attending to confirm that the event(s) are going ahead as shown. \nIf there are other shows/events that may be of interest to members\, please email me the details at devon@bmwcarclubgb.co.uk \nNOVEMBER \n28th (Thursday) Pub meet and AGM. 19:00 for 19:30 at the Swans Nest\, Station Road\, Exminster\, EX6 8DZ. UPDATED 30/10/24. The focus of this evening will be to hold the Region AGM. All members are welcome and and agenda has been published. Please note that should there be any matters that require a vote\, only paid-up members will be eligible to do so. \n30th (Saturday) BMW Day. Re:Fuel\, Five Bridges\, Willand\, Cullompton. EX15 1QP. 09:00-13:00. ADDED 22/11/24. Individual entry but no entry fee! \nDECEMBER \nNo pub meet this month but our annual Festive Meal\, at the Passage House Inn\, Kingsteignton on Thursday 12th December 18:45 for 19:30. \nBlack Tie is optional\, but encouraged. Graham is taking deposits and menu choices\, so please let him know as soon as possible. \n2025 – Look out for the 2025 Events Calendar – very much a work in progress for the New Year.
URL:https://staging.bmwcarclubgb.uk/event/devon-region-events-2024/
LOCATION:Multiple
CATEGORIES:Devon,Future Events
ORGANIZER;CN="Devon Region":MAILTO:devon@bmwcarclubgb.co.uk
END:VEVENT
BEGIN:VEVENT
DTSTART;TZID=Europe/London:20240504T080000
DTEND;TZID=Europe/London:20240505T170000
DTSTAMP:20260425T124514
CREATED:20240115T154746Z
LAST-MODIFIED:20240115T154746Z
UID:10001118-1714809600-1714928400@staging.bmwcarclubgb.uk
SUMMARY:Central Region - Donington Historic Festival
DESCRIPTION:4th & 5th May 2024. \nGo to:  https://displaymyvehicle.msv.com/Calendar/Donington-Park/2024/May/Donington-Historic-Festival Scroll down the page and select ‘WITH A CLUB’ from the three options provided (you want to select the middle\, lighter grey button). Please note\, the reference to pre-2000s in the display package description applies to non-club members who bring classics for display but do not receive the club discount. There is no age restriction for cars on club display stands\, they do not need to be pre-2000. Do not click the red ‘AS AN INDIVIDUAL’ button\, as that will take you to the pre-2000 display parking booking\, and do not click on the dark grey ‘FOR MY CLUB’ button. \nLogin to your MSV account\, or register and create an MSV account if you don’t already have one. \nYou will be asked to add the code for your club – please use this code 3813 \nThis will then take you to the booking page for our club attending the event\, with the club discount already applied. You will need to register your display vehicle account to your account\, even if you previously had it registered with MSV\, as their new system hasn’t carried vehicles over from previous years. \nSelect the day or days you wish to attend and follow the booking process. Two separate items will automatically be put into your basket: \n\nA vehicle display pass (this is NOT your driver entry ticket\, it is the parking pass for your car). This will be emailed to you two weeks before the Festival.\nYour driver entry ticket – this is your ticket to enter the event\, and will be sent to you immediately upon booking\, using the delivery method you choose.\n\nPlease also remember to add tickets for any passengers as you go through the booking process. When you get to the checkout you should find that the full 50% club discount has been applied\, even if the full price for passenger tickets appears at some point during the process. \nPlease note\, there is no telephone booking facility\, and the club discount is only available to those bringing a display vehicle (and their vehicle passengers). \nImportant:\nIf you change your display car between time of booking and the event\, or wish to bring a different car on each day\, your original parking pass will work\, even though the car description and registration number might change. You do NOT need to request a replacement parking pass. \nFor queries about your booking please email events@msv.com
URL:https://staging.bmwcarclubgb.uk/event/central-region-donington-historic-festival/
LOCATION:Donington Park\, Castle Donington\, Derby\, DE74 2RP
CATEGORIES:Central,Future Events
ATTACH;FMTTYPE=image/png:https://staging.bmwcarclubgb.uk/wp-content/uploads/2024/01/donington.png
ORGANIZER;CN="MSV":MAILTO:events@msv.com
END:VEVENT
BEGIN:VEVENT
DTSTART;TZID=Europe/London:20240504T093000
DTEND;TZID=Europe/London:20240504T180000
DTSTAMP:20260425T124514
CREATED:20240216T101747Z
LAST-MODIFIED:20240402T080409Z
UID:10001334-1714815000-1714845600@staging.bmwcarclubgb.uk
SUMMARY:May Motor Fest at Paignton Green POSTPONED TO 2025
DESCRIPTION:UPDATED 1/4/24 – WE HAVE JUST BEEN INFORMED THAT THIS EVENT HAS BEEN POSTPONED TO 2025. \nResponse from the organisers: \nIt is unfortunate that we have had to cancel May Motor Fest 2024.\n\nAs a result of remedial works planned on Paignton Green\, we have had to cancel due to the space no longer being available to use. We have been assured that the event can take place in 2025.\n\nAll ticket purchasers have been emailed which went out today and given the option of transferring their ticket to 2025\, or emailing us if they would rather a refund.\n\nKind Regards\n\n\nKameron Bailey\nManaging Director\n\nT: 07341 966824\nE: kb@geoevents.co.uk\nW:geoeventstorbay.square.site
URL:https://staging.bmwcarclubgb.uk/event/may-motor-fest-at-paignton-green/
LOCATION:Paignton Green\, Paignton Grren\, Paignton\, Devon\, TQ4 6BW
CATEGORIES:Devon,Shows
ORGANIZER;CN="GEO Events Torbay":MAILTO:kb@geoevents.co.uk
END:VEVENT
END:VCALENDAR