BEGIN:VCALENDAR
VERSION:2.0
PRODID:-//BMW Car Club GB - ECPv6.15.14//NONSGML v1.0//EN
CALSCALE:GREGORIAN
METHOD:PUBLISH
X-WR-CALNAME:BMW Car Club GB
X-ORIGINAL-URL:https://staging.bmwcarclubgb.uk
X-WR-CALDESC:Events for BMW Car Club GB
REFRESH-INTERVAL;VALUE=DURATION:PT1H
X-Robots-Tag:noindex
X-PUBLISHED-TTL:PT1H
BEGIN:VTIMEZONE
TZID:Europe/London
BEGIN:DAYLIGHT
TZOFFSETFROM:+0000
TZOFFSETTO:+0100
TZNAME:BST
DTSTART:20230326T010000
END:DAYLIGHT
BEGIN:STANDARD
TZOFFSETFROM:+0100
TZOFFSETTO:+0000
TZNAME:GMT
DTSTART:20231029T010000
END:STANDARD
BEGIN:DAYLIGHT
TZOFFSETFROM:+0000
TZOFFSETTO:+0100
TZNAME:BST
DTSTART:20240331T010000
END:DAYLIGHT
BEGIN:STANDARD
TZOFFSETFROM:+0100
TZOFFSETTO:+0000
TZNAME:GMT
DTSTART:20241027T010000
END:STANDARD
BEGIN:DAYLIGHT
TZOFFSETFROM:+0000
TZOFFSETTO:+0100
TZNAME:BST
DTSTART:20250330T010000
END:DAYLIGHT
BEGIN:STANDARD
TZOFFSETFROM:+0100
TZOFFSETTO:+0000
TZNAME:GMT
DTSTART:20251026T010000
END:STANDARD
END:VTIMEZONE
BEGIN:VEVENT
DTSTART;TZID=Europe/London:20241008T193000
DTEND;TZID=Europe/London:20241008T213000
DTSTAMP:20260423T105922
CREATED:20240214T101933Z
LAST-MODIFIED:20240214T101933Z
UID:10001327-1728415800-1728423000@staging.bmwcarclubgb.uk
SUMMARY:Central West Regional Meeting
DESCRIPTION:7.30pm at the Three Horseshoes\, Alveley\, Bridgnorth Road\, Bridgnorth\, WV15 6NB
URL:https://staging.bmwcarclubgb.uk/event/central-west-regional-meeting/2024-10-08/
LOCATION:The Three Horseshoes\, Alveley\, Bridgnorth\, WV15 6NB\, United Kingdom
CATEGORIES:Central West
ATTACH;FMTTYPE=image/jpeg:https://staging.bmwcarclubgb.uk/wp-content/uploads/2024/02/cwlogo.jpg
ORGANIZER;CN="Dean Greenfield":MAILTO:bmwccgbcentralwest@gmail.com
END:VEVENT
END:VCALENDAR