BEGIN:VCALENDAR
VERSION:2.0
PRODID:-//BMW Car Club GB - ECPv6.15.14//NONSGML v1.0//EN
CALSCALE:GREGORIAN
METHOD:PUBLISH
X-WR-CALNAME:BMW Car Club GB
X-ORIGINAL-URL:https://staging.bmwcarclubgb.uk
X-WR-CALDESC:Events for BMW Car Club GB
REFRESH-INTERVAL;VALUE=DURATION:PT1H
X-Robots-Tag:noindex
X-PUBLISHED-TTL:PT1H
BEGIN:VTIMEZONE
TZID:Europe/London
BEGIN:DAYLIGHT
TZOFFSETFROM:+0000
TZOFFSETTO:+0100
TZNAME:BST
DTSTART:20230326T010000
END:DAYLIGHT
BEGIN:STANDARD
TZOFFSETFROM:+0100
TZOFFSETTO:+0000
TZNAME:GMT
DTSTART:20231029T010000
END:STANDARD
BEGIN:DAYLIGHT
TZOFFSETFROM:+0000
TZOFFSETTO:+0100
TZNAME:BST
DTSTART:20240331T010000
END:DAYLIGHT
BEGIN:STANDARD
TZOFFSETFROM:+0100
TZOFFSETTO:+0000
TZNAME:GMT
DTSTART:20241027T010000
END:STANDARD
BEGIN:DAYLIGHT
TZOFFSETFROM:+0000
TZOFFSETTO:+0100
TZNAME:BST
DTSTART:20250330T010000
END:DAYLIGHT
BEGIN:STANDARD
TZOFFSETFROM:+0100
TZOFFSETTO:+0000
TZNAME:GMT
DTSTART:20251026T010000
END:STANDARD
END:VTIMEZONE
BEGIN:VEVENT
DTSTART;VALUE=DATE:20240101
DTEND;VALUE=DATE:20250101
DTSTAMP:20260423T072028
CREATED:20230710T143226Z
LAST-MODIFIED:20241122T165022Z
UID:10001063-1704067200-1735689599@staging.bmwcarclubgb.uk
SUMMARY:Devon Region Events November-December 2024 - UPDATED 22/11/24
DESCRIPTION:This is an events diary for the 2024 season. It will act as a single list of all the events that the Devon Region of the BMW Car Club GB will be organising / attending as a club along with events where we will not be attending as a club but may be of interest to members. The latter events will be noted accordingly and it will be for individual members to make the booking arrangements. Dates and details will be updated as they are confirmed by the organisers\, along with being given their own dedicated event on the Events page if needed. \nPlease note that where events are organised by third parties i.e. not the BMW Car Club GB or one of its Regions\, the information provided below is reproduced in good faith from those external sources. Where we are not attending as a club\, it is up to those interested in attending to confirm that the event(s) are going ahead as shown. \nIf there are other shows/events that may be of interest to members\, please email me the details at devon@bmwcarclubgb.co.uk \nNOVEMBER \n28th (Thursday) Pub meet and AGM. 19:00 for 19:30 at the Swans Nest\, Station Road\, Exminster\, EX6 8DZ. UPDATED 30/10/24. The focus of this evening will be to hold the Region AGM. All members are welcome and and agenda has been published. Please note that should there be any matters that require a vote\, only paid-up members will be eligible to do so. \n30th (Saturday) BMW Day. Re:Fuel\, Five Bridges\, Willand\, Cullompton. EX15 1QP. 09:00-13:00. ADDED 22/11/24. Individual entry but no entry fee! \nDECEMBER \nNo pub meet this month but our annual Festive Meal\, at the Passage House Inn\, Kingsteignton on Thursday 12th December 18:45 for 19:30. \nBlack Tie is optional\, but encouraged. Graham is taking deposits and menu choices\, so please let him know as soon as possible. \n2025 – Look out for the 2025 Events Calendar – very much a work in progress for the New Year.
URL:https://staging.bmwcarclubgb.uk/event/devon-region-events-2024/
LOCATION:Multiple
CATEGORIES:Devon,Future Events
ORGANIZER;CN="Devon Region":MAILTO:devon@bmwcarclubgb.co.uk
END:VEVENT
BEGIN:VEVENT
DTSTART;TZID=Europe/London:20241004T170000
DTEND;TZID=Europe/London:20241007T100000
DTSTAMP:20260423T072028
CREATED:20240210T143421Z
LAST-MODIFIED:20240210T143421Z
UID:10001140-1728061200-1728295200@staging.bmwcarclubgb.uk
SUMMARY:Northumbria Job
DESCRIPTION:We invite you to join us on our inaugural  “Northumbria Job” this autumn and enjoy the stunning scenery and fantastic driving roads in Northumberland. \nThe event will be based at the Riverdale Hall Hotel in Bellingham where you can relax in a beautiful countryside setting. We have reserved 20 rooms for the weekend  and the costs will be £325 per person including 3 nights Dinner Bed and Breakfast and entertainment for the Saturday and Sunday evening .  Following your  arrival on Friday  and a relaxed dinner\, on Saturday & Sunday we will show you our region with drives out to the magnificent Northumbrian coast with its majestic castles  and along the route of the Roman wall where you can take in the grandeur and history that makes it all so special.  For those who wish to do their own thing there is a swimming pool at the hotel and you can explore plenty of local attractions or even visit the Big City if you wish.  For more details and information on how to book email mikemilbourne@icloud.com  A unique code will be issued for you to book direct with the hotel to get the group booking rates. \nSee the Region Facebook page for full details and updates to the event. \nhttps://www.facebook.com/groups/bmwccgbneregion
URL:https://staging.bmwcarclubgb.uk/event/northumbria-job/
LOCATION:Riverdale Hall Hotel\, Bellingham
CATEGORIES:North East,Tours
ATTACH;FMTTYPE=image/jpeg:https://staging.bmwcarclubgb.uk/wp-content/uploads/2024/02/image3.jpeg
END:VEVENT
BEGIN:VEVENT
DTSTART;VALUE=DATE:20241005
DTEND;VALUE=DATE:20241006
DTSTAMP:20260423T072028
CREATED:20240214T124658Z
LAST-MODIFIED:20240214T124658Z
UID:10001331-1728086400-1728172799@staging.bmwcarclubgb.uk
SUMMARY:German Car Festival at Goodwood
DESCRIPTION:GERMAN CAR FESTIVAL  – 5th October 2024 \nThe German Car Festival returns & finds a new home at Goodwood Motor Circuit on 5th October 2024. Following the success of its inaugural show at Silverstone\, it will be bringing a showcase of the very best in German Car Brands again\, including BMW\, Porsche\, Audi\, VW & Mercedes-Benz \nClub ticket prices for 2024 are:\nStandard Club Driver Entry Ticket £25.00\nStandard Club Passenger Entry Ticket £25.00\nGerman Car Festival Show guide RRP £9.99.\nPlease select your show guide when making your order\nClub deadline for Standard tickets is Midnight on Monday 9th September 2024 \nTo book tickets for our club stand\, please use the club name & code shown below\nClub Name: BMW Car Club GB Central West Region\nCode: GCF-269 \nTo book tickets:\n1. Click here to reach the ticket page\n2. If you do not already have an account then you will need to register for one\n3. Enter your account details\n4. After entering your account details\, please select ‘YES’ to attend as part of a club\n5. You can then proceed to book your club tickets & add ons as required\nPlease ensure that you select a display ticket if you wish to display your car. \nFurther details on this event can be found on our Facebook group page or by visiting here \nAny questions feel free to email me Dean Greenfield at bmwccgbcentralwest@gmail.com
URL:https://staging.bmwcarclubgb.uk/event/german-car-festival-at-goodwood/
LOCATION:Goodwood Motor Circuit\, Chichester\, West Sussex\, PO18 0PH\, United Kingdom
CATEGORIES:Central West
ATTACH;FMTTYPE=image/jpeg:https://staging.bmwcarclubgb.uk/wp-content/uploads/2024/02/Screenshot_20231229_190510_Facebook-1.jpg
ORGANIZER;CN="Dean Greenfield":MAILTO:bmwccgbcentralwest@gmail.com
END:VEVENT
BEGIN:VEVENT
DTSTART;VALUE=DATE:20241005
DTEND;VALUE=DATE:20241006
DTSTAMP:20260423T072028
CREATED:20240216T111911Z
LAST-MODIFIED:20240216T111944Z
UID:10001337-1728086400-1728172799@staging.bmwcarclubgb.uk
SUMMARY:German Car Festival at Goodwood Circuit
DESCRIPTION:The German Car Festival is to be held on Saturday 5th October at Goodwood Circuit – A new venue for the event. There is no official presence from the club centrally\, however Cheshire & Staffs Region has book a pitch and invited us to join them. Individual entry but use their code GCF-257 when booking via the event website German Car Festival (fastcar.co.uk): \n\nGerman Car Festival Show and Shine \n\n\n\n\n\nWant to take centre stage at the German Car Festival? Want to take home the prize of the German Car Festival Show and Shine winner?\n\n\nGerman Car Festival Club Hero Award\n\nThe Club Hero award gives the club members the chance to nominate an outstanding individual in your club.\n\n\nTotal BMW Mag Display\n\nThe biggest magazine in the BMW scene\, Total BMW Magazine\, will of course be at the heart of the German Car Festival 2024.\n\n\nPerformance VW Mag Display\n\nThe biggest magazine in the VW tuning scene\, Performance VW Magazine\, will of course be at the heart of the German Car Festival 2024.\n\n\nClub Displays and Awards\n\nWe welcome all German car clubs to display at the event\, you can guarantee that we will have an variety of German cars provided by our dedicated club displays which combined put on some truly epic displays.\n\n\nRetail Village\n\nIf you’re looking for some top-notch products for your car all in one place\, then be sure to head to our Retail Village
URL:https://staging.bmwcarclubgb.uk/event/german-car-festival-at-goodwood-circuit/
LOCATION:Goodwood Motor Circuit\, Chichester\, West Sussex\, PO18 0PH\, United Kingdom
CATEGORIES:Devon,Shows
END:VEVENT
BEGIN:VEVENT
DTSTART;TZID=Europe/London:20241008T193000
DTEND;TZID=Europe/London:20241008T213000
DTSTAMP:20260423T072028
CREATED:20240214T101933Z
LAST-MODIFIED:20240214T101933Z
UID:10001327-1728415800-1728423000@staging.bmwcarclubgb.uk
SUMMARY:Central West Regional Meeting
DESCRIPTION:7.30pm at the Three Horseshoes\, Alveley\, Bridgnorth Road\, Bridgnorth\, WV15 6NB
URL:https://staging.bmwcarclubgb.uk/event/central-west-regional-meeting/2024-10-08/
LOCATION:The Three Horseshoes\, Alveley\, Bridgnorth\, WV15 6NB\, United Kingdom
CATEGORIES:Central West
ATTACH;FMTTYPE=image/jpeg:https://staging.bmwcarclubgb.uk/wp-content/uploads/2024/02/cwlogo.jpg
ORGANIZER;CN="Dean Greenfield":MAILTO:bmwccgbcentralwest@gmail.com
END:VEVENT
BEGIN:VEVENT
DTSTART;TZID=Europe/London:20241012T090000
DTEND;TZID=Europe/London:20241013T190000
DTSTAMP:20260423T072028
CREATED:20240813T120813Z
LAST-MODIFIED:20240814T163809Z
UID:10001399-1728723600-1728846000@staging.bmwcarclubgb.uk
SUMMARY:Wessex Weekend Tour 3
DESCRIPTION:There have been several requests for Wessex Weekend Tour 3 to be located on the Isle of Wight.  The Mayfair Hotel in Shanklin on the East of the island has been pre-booked\, which is in a prime location with lovely sea views.  Double/twin rooms cost £80 for the night including full English breakfasts. Single rooms are available (please request through me).  A 3-course dinner will be provided on Saturday evening at an additional cost of £20 per person.  I have applied to the club for a contribution towards these costs\, consistent with the new policy agreed at the AGM\, and I am awaiting a response. The dinner menu\, which unfortunately is not extensive (but hopefully satisfying!!)\, is shown below: \n \nTo book the ferry from Southampton Town Quay to East Cowes return\, please follow the link:  https://www.redfunnel.co.uk/ .  Enter the following:\nBooking Type = Vehicle / Passenger Ferry\nOutbound Route = Southampton to East Cowes\nReturn Route = East Cowes to Southampton\nOutward Date = Sat 12 Oct 2024\nReturn Date = Sun 13 Oct 2024\nPassengers = 2 Passengers  (or number required)\nAfter watching the propeller spin\, select Car/MPV/4×4\nSelect “ADD A PROMO CODE +” and enter BMWCAREVENT24 and select APPLY\nOnce again the propeller spins and then select under Outward Sailings Depart 09:00 → Arrive 10:00 for a saver fare cost of £42.50 and then SELECT THIS FARE\nUnder Return Sailings\, pick a departure time that suits you and follow the same procedure.  Sunday will be a free day with optional visits so you can return on any sailing.  If\, like me\, you choose to return on the 17:30 sailing\, the total ferry cost will be £85. Please note that to take advantage of this BMWCC discounted fare for the Return\, you must sail on Sunday or you will be charged the full fare for the Return sailing.\nFrom here just follow the website links to the payment section.  You will be required to enter your car registration number.  Whether you wish to take up any of Red Funnel’s “extras”\, including insurance for non-sailing\, is up to you. \nA programme for the weekend will be issued soon. We will have an organised drive on Saturday\, taking in major towns and visitor attractions on the island\, and on Sunday you will be free to explore on your own or team up with friends.  If you would like to join the Tour please do not delay booking. The Isle of Wight is very popular all year around and the ferries and hotels book up well in advance. I am able to hold a good number of rooms at the hotel just now but I cannot influence ferry bookings. The hotel are not asking for a deposit but they need a commitment.  Please contact me with your room and dinner choices with details of any allergies as soon as possible. However\, booking the ferry is more urgent.
URL:https://staging.bmwcarclubgb.uk/event/wessex-weekend-tour-3/
LOCATION:Mayfair Hotel Shanklin\, IoW\, 29 Hope Road\, Shanklin\, Isle of Wight\, PO37 6ED\, United Kingdom
CATEGORIES:Wessex
ORGANIZER;CN="Julian Pickering":MAILTO:wessex@bmwcarclubgb.co.uk
END:VEVENT
BEGIN:VEVENT
DTSTART;TZID=Europe/London:20241013T100000
DTEND;TZID=Europe/London:20241013T113000
DTSTAMP:20260423T072028
CREATED:20240929T201710Z
LAST-MODIFIED:20240929T201710Z
UID:10001410-1728813600-1728819000@staging.bmwcarclubgb.uk
SUMMARY:North East Region Breakfast Meet
DESCRIPTION:Our next monthly breakfast meeting will be on Sunday 13th October 2024. We meet from 10.00am to 11.30am at Black Horse Beamish\, Red Row\, Beamish\, Co. Durham\, DH9 0RW. Please be there for 10am prompt if you want to join us for breakfast at discounted club rates. Please help us by clicking ‘going’ on the Facebook event so that we can pass on numbers to the pub. \nThe Black Horse Beamish is just a short distance off the A1 so is easy to get to and has plenty of parking. We usually have a good variety of Alpinas\, BMWs and Modern Minis – classics\, moderns\, daily drivers and a scattering of Ms. Non-BMWs are also OK! Look for the big group somewhere in the pub building\, or hanging around the cars down by the Car Barn on a sunny day. This meeting is open to members and non-members.
URL:https://staging.bmwcarclubgb.uk/event/north-east-region-breakfast-meet-37/
CATEGORIES:North East
ATTACH;FMTTYPE=image/jpeg:https://staging.bmwcarclubgb.uk/wp-content/uploads/2024/04/Black-Horse-Aug-2022-2-scaled.jpg
END:VEVENT
END:VCALENDAR