BEGIN:VCALENDAR
VERSION:2.0
PRODID:-//BMW Car Club GB - ECPv6.15.14//NONSGML v1.0//EN
CALSCALE:GREGORIAN
METHOD:PUBLISH
X-WR-CALNAME:BMW Car Club GB
X-ORIGINAL-URL:https://staging.bmwcarclubgb.uk
X-WR-CALDESC:Events for BMW Car Club GB
REFRESH-INTERVAL;VALUE=DURATION:PT1H
X-Robots-Tag:noindex
X-PUBLISHED-TTL:PT1H
BEGIN:VTIMEZONE
TZID:Europe/London
BEGIN:DAYLIGHT
TZOFFSETFROM:+0000
TZOFFSETTO:+0100
TZNAME:BST
DTSTART:20230326T010000
END:DAYLIGHT
BEGIN:STANDARD
TZOFFSETFROM:+0100
TZOFFSETTO:+0000
TZNAME:GMT
DTSTART:20231029T010000
END:STANDARD
BEGIN:DAYLIGHT
TZOFFSETFROM:+0000
TZOFFSETTO:+0100
TZNAME:BST
DTSTART:20240331T010000
END:DAYLIGHT
BEGIN:STANDARD
TZOFFSETFROM:+0100
TZOFFSETTO:+0000
TZNAME:GMT
DTSTART:20241027T010000
END:STANDARD
BEGIN:DAYLIGHT
TZOFFSETFROM:+0000
TZOFFSETTO:+0100
TZNAME:BST
DTSTART:20250330T010000
END:DAYLIGHT
BEGIN:STANDARD
TZOFFSETFROM:+0100
TZOFFSETTO:+0000
TZNAME:GMT
DTSTART:20251026T010000
END:STANDARD
END:VTIMEZONE
BEGIN:VEVENT
DTSTART;VALUE=DATE:20240101
DTEND;VALUE=DATE:20250101
DTSTAMP:20260423T104111
CREATED:20230710T143226Z
LAST-MODIFIED:20241122T165022Z
UID:10001063-1704067200-1735689599@staging.bmwcarclubgb.uk
SUMMARY:Devon Region Events November-December 2024 - UPDATED 22/11/24
DESCRIPTION:This is an events diary for the 2024 season. It will act as a single list of all the events that the Devon Region of the BMW Car Club GB will be organising / attending as a club along with events where we will not be attending as a club but may be of interest to members. The latter events will be noted accordingly and it will be for individual members to make the booking arrangements. Dates and details will be updated as they are confirmed by the organisers\, along with being given their own dedicated event on the Events page if needed. \nPlease note that where events are organised by third parties i.e. not the BMW Car Club GB or one of its Regions\, the information provided below is reproduced in good faith from those external sources. Where we are not attending as a club\, it is up to those interested in attending to confirm that the event(s) are going ahead as shown. \nIf there are other shows/events that may be of interest to members\, please email me the details at devon@bmwcarclubgb.co.uk \nNOVEMBER \n28th (Thursday) Pub meet and AGM. 19:00 for 19:30 at the Swans Nest\, Station Road\, Exminster\, EX6 8DZ. UPDATED 30/10/24. The focus of this evening will be to hold the Region AGM. All members are welcome and and agenda has been published. Please note that should there be any matters that require a vote\, only paid-up members will be eligible to do so. \n30th (Saturday) BMW Day. Re:Fuel\, Five Bridges\, Willand\, Cullompton. EX15 1QP. 09:00-13:00. ADDED 22/11/24. Individual entry but no entry fee! \nDECEMBER \nNo pub meet this month but our annual Festive Meal\, at the Passage House Inn\, Kingsteignton on Thursday 12th December 18:45 for 19:30. \nBlack Tie is optional\, but encouraged. Graham is taking deposits and menu choices\, so please let him know as soon as possible. \n2025 – Look out for the 2025 Events Calendar – very much a work in progress for the New Year.
URL:https://staging.bmwcarclubgb.uk/event/devon-region-events-2024/
LOCATION:Multiple
CATEGORIES:Devon,Future Events
ORGANIZER;CN="Devon Region":MAILTO:devon@bmwcarclubgb.co.uk
END:VEVENT
BEGIN:VEVENT
DTSTART;TZID=Europe/London:20240901T100000
DTEND;TZID=Europe/London:20240901T160000
DTSTAMP:20260423T104111
CREATED:20240726T145533Z
LAST-MODIFIED:20240726T145743Z
UID:10001387-1725184800-1725206400@staging.bmwcarclubgb.uk
SUMMARY:M Power and Alpina Meeting
DESCRIPTION:The annual M Power and Alpina Meeting at Denbies Wine Estate with the Surrey and Sussex Owners Club will take place on Sunday 1st September.  For details and to buy tickets please follow this link: \nhttps://www.eventbrite.com/e/m-powered-bmw-and-alpina-tickets-728325640597?utm-campaign=social&utm-content=attendeeshare&utm-medium=discovery&utm-term=listing&utm-source=cp&aff=ebdsshcopyurl
URL:https://staging.bmwcarclubgb.uk/event/m-power-and-alpina-meeting/
LOCATION:Denbies Wine Estate\, London Road\, Dorking\, Surrey\, RH5 6AA
CATEGORIES:Wessex
ORGANIZER;CN="Tim Maltby":MAILTO:timsharknose@outlook.com
END:VEVENT
BEGIN:VEVENT
DTSTART;TZID=Europe/London:20240908T100000
DTEND;TZID=Europe/London:20240908T113000
DTSTAMP:20260423T104111
CREATED:20240901T163041Z
LAST-MODIFIED:20240901T163041Z
UID:10001400-1725789600-1725795000@staging.bmwcarclubgb.uk
SUMMARY:North East Region Breakfast Meet
DESCRIPTION:Our next monthly breakfast meeting will be on Sunday 8th September 2024. We meet from 10.00am to 11.30am at Black Horse Beamish\, Red Row\, Beamish\, Co. Durham\, DH9 0RW. Please be there for 10am prompt if you want to join us for breakfast at discounted club rates. Please help us by clicking ‘going’ on the Facebook event so that we can pass on numbers to the pub. \nThe Black Horse Beamish is just a short distance off the A1 so is easy to get to and has plenty of parking. We usually have a good variety of Alpinas\, BMWs and Modern Minis – classics\, moderns\, daily drivers and a scattering of Ms. Non-BMWs are also OK! Look for the big group somewhere in the pub building\, or hanging around the cars down by the Car Barn on a sunny day. This meeting is open to members and non-members.
URL:https://staging.bmwcarclubgb.uk/event/north-east-region-breakfast-meet-36/
CATEGORIES:North East
ATTACH;FMTTYPE=image/jpeg:https://staging.bmwcarclubgb.uk/wp-content/uploads/2024/04/Black-Horse-Aug-2022-2-scaled.jpg
END:VEVENT
BEGIN:VEVENT
DTSTART;TZID=Europe/London:20240910T193000
DTEND;TZID=Europe/London:20240910T213000
DTSTAMP:20260423T104111
CREATED:20240214T101933Z
LAST-MODIFIED:20240214T101933Z
UID:10001326-1725996600-1726003800@staging.bmwcarclubgb.uk
SUMMARY:Central West Regional Meeting
DESCRIPTION:7.30pm at the Three Horseshoes\, Alveley\, Bridgnorth Road\, Bridgnorth\, WV15 6NB
URL:https://staging.bmwcarclubgb.uk/event/central-west-regional-meeting/2024-09-10/
LOCATION:The Three Horseshoes\, Alveley\, Bridgnorth\, WV15 6NB\, United Kingdom
CATEGORIES:Central West
ATTACH;FMTTYPE=image/jpeg:https://staging.bmwcarclubgb.uk/wp-content/uploads/2024/02/cwlogo.jpg
ORGANIZER;CN="Dean Greenfield":MAILTO:bmwccgbcentralwest@gmail.com
END:VEVENT
BEGIN:VEVENT
DTSTART;TZID=Europe/London:20240922T080000
DTEND;TZID=Europe/London:20240922T170000
DTSTAMP:20260423T104111
CREATED:20240808T105745Z
LAST-MODIFIED:20240808T105745Z
UID:10001394-1726992000-1727024400@staging.bmwcarclubgb.uk
SUMMARY:Simply BMW\, Beaulieu
DESCRIPTION:Simply BMW\, Beaulieu – Sunday 22nd September 2024 \nAs in previous years Wessex Region is hosting a Club Display which is open to all BMWCCGB members. \nSeveral of you have expressed an interest and have bought tickets\, but please could you confirm your attendance after you have purchased your ticket(s)\, one per person attending\, direct from Beaulieu. \nTickets are available online here: Simply BMW | Beaulieu\, National Motor Museum \nClick on the Participant Bookings and for the Car Club Name enter BMWCCGB Wessex Region. \nPlease let me know by 12th September latest via email so that your display pass can be forwarded to you. \ntimsharknose@outlook.com \nMany thanks and looking forward to seeing you then\, if not before. \nTim Maltby    07885 252448
URL:https://staging.bmwcarclubgb.uk/event/simply-bmw-beaulieu/
LOCATION:Beaulieu Motor Museum\, Beaulieu\, Hampshire\, SO42 7ZN\, United Kingdom
CATEGORIES:Shows,Wessex
ATTACH;FMTTYPE=image/png:https://staging.bmwcarclubgb.uk/wp-content/uploads/2024/08/Screenshot-2024-08-08-115657.png
END:VEVENT
BEGIN:VEVENT
DTSTART;TZID=Europe/London:20240929T080000
DTEND;TZID=Europe/London:20240929T170000
DTSTAMP:20260423T104111
CREATED:20240409T133939Z
LAST-MODIFIED:20240409T142006Z
UID:10001358-1727596800-1727629200@staging.bmwcarclubgb.uk
SUMMARY:Brooklands German Car Day
DESCRIPTION:Wessex is teaming up with other BMWCC Regions to attend the Brooklands German Car Day on Sunday 29 September.  We will have a joint club stand and Nigel Hole has arranged a discounted ticket price of £19.70 for our members\, which includes access to the museum.  To book a ticket please visit book tickets and quote discount code GD4SSBOC.  We have 40 places available with this code but this can be extended if needed.  In addition to the car show there is a lot to see at the museum and\, if that is still not enough\, it is only a short walk to Mercedes World.  Please notify Julian Pickering when you have booked a ticket.
URL:https://staging.bmwcarclubgb.uk/event/brooklands-german-car-day/
LOCATION:Brooklands Museum\, Brooklands Drive\, Weybridge\, Surrey\, KT13 0SL\, United Kingdom
CATEGORIES:Wessex
ORGANIZER;CN="Julian Pickering":MAILTO:wessex@bmwcarclubgb.co.uk
END:VEVENT
END:VCALENDAR