BEGIN:VCALENDAR
VERSION:2.0
PRODID:-//BMW Car Club GB - ECPv6.15.14//NONSGML v1.0//EN
CALSCALE:GREGORIAN
METHOD:PUBLISH
X-WR-CALNAME:BMW Car Club GB
X-ORIGINAL-URL:https://staging.bmwcarclubgb.uk
X-WR-CALDESC:Events for BMW Car Club GB
REFRESH-INTERVAL;VALUE=DURATION:PT1H
X-Robots-Tag:noindex
X-PUBLISHED-TTL:PT1H
BEGIN:VTIMEZONE
TZID:Europe/London
BEGIN:DAYLIGHT
TZOFFSETFROM:+0000
TZOFFSETTO:+0100
TZNAME:BST
DTSTART:20230326T010000
END:DAYLIGHT
BEGIN:STANDARD
TZOFFSETFROM:+0100
TZOFFSETTO:+0000
TZNAME:GMT
DTSTART:20231029T010000
END:STANDARD
BEGIN:DAYLIGHT
TZOFFSETFROM:+0000
TZOFFSETTO:+0100
TZNAME:BST
DTSTART:20240331T010000
END:DAYLIGHT
BEGIN:STANDARD
TZOFFSETFROM:+0100
TZOFFSETTO:+0000
TZNAME:GMT
DTSTART:20241027T010000
END:STANDARD
BEGIN:DAYLIGHT
TZOFFSETFROM:+0000
TZOFFSETTO:+0100
TZNAME:BST
DTSTART:20250330T010000
END:DAYLIGHT
BEGIN:STANDARD
TZOFFSETFROM:+0100
TZOFFSETTO:+0000
TZNAME:GMT
DTSTART:20251026T010000
END:STANDARD
END:VTIMEZONE
BEGIN:VEVENT
DTSTART;VALUE=DATE:20240101
DTEND;VALUE=DATE:20250101
DTSTAMP:20260424T055443
CREATED:20230710T143226Z
LAST-MODIFIED:20241122T165022Z
UID:10001063-1704067200-1735689599@staging.bmwcarclubgb.uk
SUMMARY:Devon Region Events November-December 2024 - UPDATED 22/11/24
DESCRIPTION:This is an events diary for the 2024 season. It will act as a single list of all the events that the Devon Region of the BMW Car Club GB will be organising / attending as a club along with events where we will not be attending as a club but may be of interest to members. The latter events will be noted accordingly and it will be for individual members to make the booking arrangements. Dates and details will be updated as they are confirmed by the organisers\, along with being given their own dedicated event on the Events page if needed. \nPlease note that where events are organised by third parties i.e. not the BMW Car Club GB or one of its Regions\, the information provided below is reproduced in good faith from those external sources. Where we are not attending as a club\, it is up to those interested in attending to confirm that the event(s) are going ahead as shown. \nIf there are other shows/events that may be of interest to members\, please email me the details at devon@bmwcarclubgb.co.uk \nNOVEMBER \n28th (Thursday) Pub meet and AGM. 19:00 for 19:30 at the Swans Nest\, Station Road\, Exminster\, EX6 8DZ. UPDATED 30/10/24. The focus of this evening will be to hold the Region AGM. All members are welcome and and agenda has been published. Please note that should there be any matters that require a vote\, only paid-up members will be eligible to do so. \n30th (Saturday) BMW Day. Re:Fuel\, Five Bridges\, Willand\, Cullompton. EX15 1QP. 09:00-13:00. ADDED 22/11/24. Individual entry but no entry fee! \nDECEMBER \nNo pub meet this month but our annual Festive Meal\, at the Passage House Inn\, Kingsteignton on Thursday 12th December 18:45 for 19:30. \nBlack Tie is optional\, but encouraged. Graham is taking deposits and menu choices\, so please let him know as soon as possible. \n2025 – Look out for the 2025 Events Calendar – very much a work in progress for the New Year.
URL:https://staging.bmwcarclubgb.uk/event/devon-region-events-2024/
LOCATION:Multiple
CATEGORIES:Devon,Future Events
ORGANIZER;CN="Devon Region":MAILTO:devon@bmwcarclubgb.co.uk
END:VEVENT
BEGIN:VEVENT
DTSTART;TZID=Europe/London:20240804T090000
DTEND;TZID=Europe/London:20240804T170000
DTSTAMP:20260424T055443
CREATED:20240213T102228Z
LAST-MODIFIED:20240213T102228Z
UID:10001143-1722762000-1722790800@staging.bmwcarclubgb.uk
SUMMARY:BMs at The Helimuseum
DESCRIPTION:BM’s at The Helimuseum\, Weston Super Mare \nEnter Show & Shine or just come along for the gathering. \n£10.00 per head. \nDisplay cars not to move between 10am & 2.30pm \nThe Helicopter Museum\, Locking Moor Road\, Weston Super Mare BS24 8PP
URL:https://staging.bmwcarclubgb.uk/event/bms-at-the-helimuseum/
LOCATION:The Helimuseum\, Locking Moor Road\, Weston Super Mare\, BS24 8PP
CATEGORIES:Western
END:VEVENT
BEGIN:VEVENT
DTSTART;TZID=Europe/London:20240804T100000
DTEND;TZID=Europe/London:20240804T160000
DTSTAMP:20260424T055443
CREATED:20240603T142338Z
LAST-MODIFIED:20240603T143305Z
UID:10001371-1722765600-1722787200@staging.bmwcarclubgb.uk
SUMMARY:BMs at the Helimuseum\, Weston-super-Mare
DESCRIPTION:Sunday 4th August BMs at the Helimuseum\, Weston Super Mare. ADDED 3/6/24 – Organised by Western Region – see club email of 13/3/24 and June issue of Straight Six (page 11 ‘What’s on…’. \nEnter Show & Shine or just come along for the gathering. £10.00 per head. Display cars not to move between 10am & 2.30pm \nContact: western@bmwcarclubgb.co.uk for more info \nThe Helicopter Museum\, Locking Moor Road\, Weston Super Mare BS24 8PP
URL:https://staging.bmwcarclubgb.uk/event/bms-at-the-helimuseum-weston-super-mare/
LOCATION:Helimuseum\, Locking Moor Road\, Weston Super Mare\, BS24 8PP
CATEGORIES:Devon,Future Events,Shows
END:VEVENT
BEGIN:VEVENT
DTSTART;TZID=Europe/London:20240808T173000
DTEND;TZID=Europe/London:20240808T200000
DTSTAMP:20260424T055443
CREATED:20240628T125438Z
LAST-MODIFIED:20240801T105436Z
UID:10001378-1723138200-1723147200@staging.bmwcarclubgb.uk
SUMMARY:Brands Hatch (Evening) Trackday
DESCRIPTION:Thursday 8th August – Evening\nJoin us at our Brands Hatch trackday\, taking place on the evening of Thursday 8th August.\nIf you are a BMWCC member\, please ensure you are logged in for the member’s rate of £150. \nAll BMW Car Club trackdays are open-pit lane with restricted numbers\, to ensure you get the most out of the day.\nTuition is also available on request. \nWe pride ourselves for clean and polite driving\, so our trackdays are perfect for novices. \nTo book online\, please visit https://bmwcarclubgb.uk/shop/brands-hatch/ or call the Club Office on 01970 267 989.
URL:https://staging.bmwcarclubgb.uk/event/brands-hatch-evening-trackday/
LOCATION:Brands Hatch\, West Kingsdown\, Longfield\, DA3 8NG
CATEGORIES:Future Events,South East,Track Days
ATTACH;FMTTYPE=image/jpeg:https://staging.bmwcarclubgb.uk/wp-content/uploads/2024/06/28321657748_bf3b868fc4_o-min-600x400-1.jpg
END:VEVENT
BEGIN:VEVENT
DTSTART;VALUE=DATE:20240811
DTEND;VALUE=DATE:20240812
DTSTAMP:20260424T055443
CREATED:20240216T112949Z
LAST-MODIFIED:20240527T173341Z
UID:10001338-1723334400-1723420799@staging.bmwcarclubgb.uk
SUMMARY:Exmouth Classic Car Show
DESCRIPTION:Another car show in Exmouth\, this time the one we attended last year\, to be held at the Recreation Ground on Sunday 11th August. Although we will be attending we may be splitting ourselves between this and the North Devon Festival of Transport. The following is from the email they sent me: \nI thought I would email you to let you know that the annual Exmouth Classic Vehicle Show will be returning on Sunday 11th August 2024 following a successful last year which saw in excess of 250 vehicles on display and £2\,330 raised for Devon Air Ambulance through voluntary donations.Organised by the Morris Minor Owners Club Devon Branch and the Ford Anglia 105E Owners Club\, this annual event will take place from 10am until 4PM. As in previous years\, there is no entry fee to pay and no need to book in – although it will be helpful if the organisers can know in advance if you would like a pitch reserved for a car club display. The event will also be looking to collect for local charity in the official collecting buckets and they also hope to have in excess of 200 vehicles on display.
URL:https://staging.bmwcarclubgb.uk/event/exmouth-classic-car-show-2/
LOCATION:Imperial Recreation Ground\, Exmouth\, Exmouth\, Devon\, EX8 1DG
CATEGORIES:Devon,Shows
END:VEVENT
BEGIN:VEVENT
DTSTART;VALUE=DATE:20240811
DTEND;VALUE=DATE:20240812
DTSTAMP:20260424T055443
CREATED:20240216T155022Z
LAST-MODIFIED:20240727T082412Z
UID:10001339-1723334400-1723420799@staging.bmwcarclubgb.uk
SUMMARY:North Devon Festival of Transport UPDATED 27/7/24
DESCRIPTION:  \nUPDATE 27/7/24 – PLEASE NOTE THAT BOOKINGS ARE NOW CLOSED. \nAn event that we have not attended as a club before but it gives the opportunity for a decent drive with a show at the end of it. It will also be a good opportunity to meet up with club members from mid and North Devon. \nThe event is to be held on Sunday 11th August at Victoria Park\, 39 Kingsley Road\, Bideford. EX39 2QQ. Organised by Bideford Bridge Rotary Club.  \nWe will be exhibiting as a club\, but tickets need to be booked on an individual basis – see the booking form at the bottom of this page. The cost is £5 per vehicle which includes a driver and passenger. Additional passengers at £5 each. Under 16s go free. \n Event website:https://www.rotary-ribi.org/clubs/page.php?PgID=935516&ClubID=1589 \n[pdf-embedder url=”http://bmwcarclubgb.uk/wp-content/uploads/2024/04/NDFoT-VEHICLE-BOOKING-FORM-CLUB-2024_11.08.24.pdf” title=”NDFoT VEHICLE-BOOKING-FORM-CLUB-2024_11.08.24″] \n[pdf-embedder url=”http://bmwcarclubgb.uk/wp-content/uploads/2024/05/NDFoT-VEHICLE-BOOKING-FORM-CLUB-2024_11.08.24.pdf” title=”NDFoT VEHICLE-BOOKING-FORM-CLUB-2024_11.08.24″]
URL:https://staging.bmwcarclubgb.uk/event/north-devon-festival-of-transport/
LOCATION:Victoria Park\, 39 Kingsley Road\, Bideford\, Devon\, EX39 2QQ\, United Kingdom
CATEGORIES:Devon,Shows
END:VEVENT
BEGIN:VEVENT
DTSTART;TZID=Europe/London:20240811T100000
DTEND;TZID=Europe/London:20240811T113000
DTSTAMP:20260424T055443
CREATED:20240728T202114Z
LAST-MODIFIED:20240728T202114Z
UID:10001389-1723370400-1723375800@staging.bmwcarclubgb.uk
SUMMARY:North East Region Breakfast Meet
DESCRIPTION:Our next monthly breakfast meeting will be on Sunday 11th August 2024. We meet from 10.00am to 11.30am at Black Horse Beamish\, Red Row\, Beamish\, Co. Durham\, DH9 0RW. Please be there for 10am prompt if you want to join us for breakfast at discounted club rates. The Black Horse Beamish is just a short distance off the A1 so is easy to get to and has plenty of parking. We usually have a good variety of Alpinas\, BMWs and Modern Minis – classics\, moderns\, daily drivers and a scattering of Ms. Non-BMWs are also OK! Look for the big group somewhere in the pub building\, or hanging around the cars down by the Car Barn on a sunny day. This meeting is open to members and non-members.
URL:https://staging.bmwcarclubgb.uk/event/north-east-region-breakfast-meet-35/
CATEGORIES:North East
ATTACH;FMTTYPE=image/jpeg:https://staging.bmwcarclubgb.uk/wp-content/uploads/2024/04/Black-Horse-Aug-2022-2-scaled.jpg
END:VEVENT
BEGIN:VEVENT
DTSTART;TZID=Europe/London:20240813T193000
DTEND;TZID=Europe/London:20240813T213000
DTSTAMP:20260424T055443
CREATED:20240214T101933Z
LAST-MODIFIED:20240214T101933Z
UID:10001325-1723577400-1723584600@staging.bmwcarclubgb.uk
SUMMARY:Central West Regional Meeting
DESCRIPTION:7.30pm at the Three Horseshoes\, Alveley\, Bridgnorth Road\, Bridgnorth\, WV15 6NB
URL:https://staging.bmwcarclubgb.uk/event/central-west-regional-meeting/2024-08-13/
LOCATION:The Three Horseshoes\, Alveley\, Bridgnorth\, WV15 6NB\, United Kingdom
CATEGORIES:Central West
ATTACH;FMTTYPE=image/jpeg:https://staging.bmwcarclubgb.uk/wp-content/uploads/2024/02/cwlogo.jpg
ORGANIZER;CN="Dean Greenfield":MAILTO:bmwccgbcentralwest@gmail.com
END:VEVENT
BEGIN:VEVENT
DTSTART;TZID=Europe/London:20240823T080000
DTEND;TZID=Europe/London:20240825T170000
DTSTAMP:20260424T055443
CREATED:20231108T125527Z
LAST-MODIFIED:20231108T125527Z
UID:10001091-1724400000-1724605200@staging.bmwcarclubgb.uk
SUMMARY:Silverstone Festival
DESCRIPTION:SILVERSTONE FESTIVAL\nON SALE 15TH NOVEMBER \nCar Club Display Packages for Club members go on sale on Wednesday 15th November for Silverstone Festival 2024. \nSilverstone Festival takes place on 23-25th August 2024. \nBook early for the best prices. Early bookers are also entered into the Golden Ticket Prize draw (book by midnight 19th November to enter into the draw). \nSome prizes up for grabs are: \n\nSilverstone Drive McLaren Experience\nPair of Sunday hospitality tickets\nDiddly Squat Farm Shop goodie bag\nSubscriptions to Autocar\, Classic & Sportscar and Motor Sport magazines\nPlus more!\n\n\nStaged at the home of British motorsport\, the Festival will again feature an unrivalled bill of crowd-pleasing historic motor racing on the world famous Grand Prix circuit as well as huge displays of much-loved classic cars. As part of the weekend line-up\, Formula One history will also be celebrated on- and off-track. \nOff-track highlights returning in 2024 include the event’s Foodie Fest with chef demos\, high energy stunt shows in the Shift & Drift Zone\, a host of funfair rides and live music on all three evenings. \nCar Club Display Packages include 2 x entry tickets and 1 x BMWCCGB vehicle display pass. \n\nClick HERE for your member’s only club code.\n\nFor more information please visit www.silverstone.co.uk/events/silverstone-festival
URL:https://staging.bmwcarclubgb.uk/event/silverstone-festival/
LOCATION:Silverstone Circuit\, Towcester\, Northamptonshire\, NN12 8TN\, United Kingdom
CATEGORIES:Central,Future Events,National Event
ATTACH;FMTTYPE=image/png:https://staging.bmwcarclubgb.uk/wp-content/uploads/2023/11/Untitled-design-14.png
END:VEVENT
BEGIN:VEVENT
DTSTART;TZID=Europe/London:20240831T110000
DTEND;TZID=Europe/London:20240831T150000
DTSTAMP:20260424T055443
CREATED:20240809T103511Z
LAST-MODIFIED:20240809T103511Z
UID:10001397-1725102000-1725116400@staging.bmwcarclubgb.uk
SUMMARY:Sammy Millers Museum
DESCRIPTION:We are running a visit to Sammy Miller’s Motorcycle Museum\, near New Milton\, on Saturday 31st August\, meeting there at 11am.  We hope to have reserved parking and for those wishing to stay we will have lunch in the café afterwards.  Could you please let Eric Thompson know if you are planning to attend.  No pre-booking is necessary.
URL:https://staging.bmwcarclubgb.uk/event/sammy-millers-museum/
LOCATION:Sammy Miller’s Motorcycle Museum\, Bashley Cross Roads\, New Milton\, Hampshire\, BH25 5SZ\, United Kingdom
CATEGORIES:Wessex
ORGANIZER;CN="Eric Thompson":MAILTO:ericthompson429@gmail.com
END:VEVENT
END:VCALENDAR