BEGIN:VCALENDAR
VERSION:2.0
PRODID:-//BMW Car Club GB - ECPv6.15.14//NONSGML v1.0//EN
CALSCALE:GREGORIAN
METHOD:PUBLISH
X-ORIGINAL-URL:https://staging.bmwcarclubgb.uk
X-WR-CALDESC:Events for BMW Car Club GB
REFRESH-INTERVAL;VALUE=DURATION:PT1H
X-Robots-Tag:noindex
X-PUBLISHED-TTL:PT1H
BEGIN:VTIMEZONE
TZID:Europe/London
BEGIN:DAYLIGHT
TZOFFSETFROM:+0000
TZOFFSETTO:+0100
TZNAME:BST
DTSTART:20230326T010000
END:DAYLIGHT
BEGIN:STANDARD
TZOFFSETFROM:+0100
TZOFFSETTO:+0000
TZNAME:GMT
DTSTART:20231029T010000
END:STANDARD
BEGIN:DAYLIGHT
TZOFFSETFROM:+0000
TZOFFSETTO:+0100
TZNAME:BST
DTSTART:20240331T010000
END:DAYLIGHT
BEGIN:STANDARD
TZOFFSETFROM:+0100
TZOFFSETTO:+0000
TZNAME:GMT
DTSTART:20241027T010000
END:STANDARD
BEGIN:DAYLIGHT
TZOFFSETFROM:+0000
TZOFFSETTO:+0100
TZNAME:BST
DTSTART:20250330T010000
END:DAYLIGHT
BEGIN:STANDARD
TZOFFSETFROM:+0100
TZOFFSETTO:+0000
TZNAME:GMT
DTSTART:20251026T010000
END:STANDARD
END:VTIMEZONE
BEGIN:VEVENT
DTSTART;VALUE=DATE:20240101
DTEND;VALUE=DATE:20250101
DTSTAMP:20260423T225846
CREATED:20230710T143226Z
LAST-MODIFIED:20241122T165022Z
UID:10001063-1704067200-1735689599@staging.bmwcarclubgb.uk
SUMMARY:Devon Region Events November-December 2024 - UPDATED 22/11/24
DESCRIPTION:This is an events diary for the 2024 season. It will act as a single list of all the events that the Devon Region of the BMW Car Club GB will be organising / attending as a club along with events where we will not be attending as a club but may be of interest to members. The latter events will be noted accordingly and it will be for individual members to make the booking arrangements. Dates and details will be updated as they are confirmed by the organisers\, along with being given their own dedicated event on the Events page if needed. \nPlease note that where events are organised by third parties i.e. not the BMW Car Club GB or one of its Regions\, the information provided below is reproduced in good faith from those external sources. Where we are not attending as a club\, it is up to those interested in attending to confirm that the event(s) are going ahead as shown. \nIf there are other shows/events that may be of interest to members\, please email me the details at devon@bmwcarclubgb.co.uk \nNOVEMBER \n28th (Thursday) Pub meet and AGM. 19:00 for 19:30 at the Swans Nest\, Station Road\, Exminster\, EX6 8DZ. UPDATED 30/10/24. The focus of this evening will be to hold the Region AGM. All members are welcome and and agenda has been published. Please note that should there be any matters that require a vote\, only paid-up members will be eligible to do so. \n30th (Saturday) BMW Day. Re:Fuel\, Five Bridges\, Willand\, Cullompton. EX15 1QP. 09:00-13:00. ADDED 22/11/24. Individual entry but no entry fee! \nDECEMBER \nNo pub meet this month but our annual Festive Meal\, at the Passage House Inn\, Kingsteignton on Thursday 12th December 18:45 for 19:30. \nBlack Tie is optional\, but encouraged. Graham is taking deposits and menu choices\, so please let him know as soon as possible. \n2025 – Look out for the 2025 Events Calendar – very much a work in progress for the New Year.
URL:https://staging.bmwcarclubgb.uk/event/devon-region-events-2024/
LOCATION:Multiple
CATEGORIES:Devon,Future Events
ORGANIZER;CN="Devon Region":MAILTO:devon@bmwcarclubgb.co.uk
END:VEVENT
BEGIN:VEVENT
DTSTART;TZID=Europe/London:20240703T153000
DTEND;TZID=Europe/London:20240703T170000
DTSTAMP:20260423T225846
CREATED:20240525T120042Z
LAST-MODIFIED:20240618T142004Z
UID:10001369-1720020600-1720026000@staging.bmwcarclubgb.uk
SUMMARY:July Bournemouth Clubnight
DESCRIPTION:The July 2024 Bournemouth Clubnight will be held at The Horton Inn\, Cranborne Road\, Wimborne BH21 5AD starting at 7pm as usual.  As an optional extra\, for those that are available\, we will meet at the Compton Abbas Airfield Cafe at 3.30pm for afternoon tea.  Reserved parking is available in the paddock\, next to the restaurant.  We will leave at about 5pm for a convoy drive through Dorset countryside to the Horton Inn.   If you can’t make this\, please just join us at The Horton Inn.
URL:https://staging.bmwcarclubgb.uk/event/july-bournemouth-clubnight/
LOCATION:Compton Abbas Airfield\, Ashmore\, Nr. Salisbury\, Wiltshire\, SP5 5AP\, United Kingdom
CATEGORIES:Wessex
ORGANIZER;CN="Eric Thompson":MAILTO:ericthompson429@gmail.com
END:VEVENT
BEGIN:VEVENT
DTSTART;TZID=Europe/London:20240706T100000
DTEND;TZID=Europe/London:20240706T160000
DTSTAMP:20260423T225846
CREATED:20240527T174016Z
LAST-MODIFIED:20240527T174539Z
UID:10001370-1720260000-1720281600@staging.bmwcarclubgb.uk
SUMMARY:Classic Car and Motorbike Show & Family Fun Day at Imperial Recreation Ground\, Exmouth
DESCRIPTION:ADDED 27/5/24 \nA new show in Exmouth\, organised by Exmouth Rotary. Individual entry by charitable donation. From their website: \nExmouth Rotary Club is delighted to announce our first Classic Car and Motorbike Show + Family Fun Day in Exmouth in aid of Hospiscare\n\n \n\n  \n\nIt should be a great fun day on the Imperial Recreation Ground\, Exmouth\, with classic cars and motorbikes to view as well as many other attractions for the whole family. \nIf you are thinking of exhibiting your car or motorbike then please follow the link to the information leaflet and then contact us by email at exmouthrotary@outlook.com \n\n 
URL:https://staging.bmwcarclubgb.uk/event/classic-car-and-motorbike-show-family-fun-day-at-imperial-recreation-ground-exmouth/
LOCATION:Imperial Recreation Ground\, Exmouth\, Exmouth\, Devon\, EX8 1DG
CATEGORIES:Devon,Shows
END:VEVENT
BEGIN:VEVENT
DTSTART;TZID=Europe/London:20240709T193000
DTEND;TZID=Europe/London:20240709T213000
DTSTAMP:20260423T225846
CREATED:20240214T101933Z
LAST-MODIFIED:20240214T101933Z
UID:10001324-1720553400-1720560600@staging.bmwcarclubgb.uk
SUMMARY:Central West Regional Meeting
DESCRIPTION:7.30pm at the Three Horseshoes\, Alveley\, Bridgnorth Road\, Bridgnorth\, WV15 6NB
URL:https://staging.bmwcarclubgb.uk/event/central-west-regional-meeting/2024-07-09/
LOCATION:The Three Horseshoes\, Alveley\, Bridgnorth\, WV15 6NB\, United Kingdom
CATEGORIES:Central West
ATTACH;FMTTYPE=image/jpeg:https://staging.bmwcarclubgb.uk/wp-content/uploads/2024/02/cwlogo.jpg
ORGANIZER;CN="Dean Greenfield":MAILTO:bmwccgbcentralwest@gmail.com
END:VEVENT
BEGIN:VEVENT
DTSTART;TZID=Europe/London:20240713T090000
DTEND;TZID=Europe/London:20240714T170000
DTSTAMP:20260423T225846
CREATED:20240216T110520Z
LAST-MODIFIED:20240701T084718Z
UID:10001336-1720861200-1720976400@staging.bmwcarclubgb.uk
SUMMARY:Historic Vehicle Gathering at Powderham Castle - UPDATED 1/7/24
DESCRIPTION:UPDATE 1/7/24 – THE VEHICLE PASSES AND WRISTBANDS HAVE BEEN DISTRIBUTED TO THOSE ATTENDING. \nOur local big event of the year returns on Saturday 13th and Sunday 14th of July in the stunning setting of the grounds of Powderham Castle. Let us hope that the weather is kinder than in 2023. \nWe will be attending as a club and I have requested the same pitch and capacity as last year. The tickets are £17 which covers 1 car\, 1 driver and 1 passenger for either or both days. Camping for the Friday and Saturday night is £40 including entrance. \nIt will be open to the public from 10:00-17:00 so we will need to be there around 09:00 to set up the car display etc. We will try to theme our display\, so please abide the request of whoever is marshalling the display. \nWe expect to be hosting our neighbouring Cornwall and Western Regions. \nHelp in setting up the marquee on Friday the 12th will be welcomed. The conditions of entry are shown below. \n \n  \n 
URL:https://staging.bmwcarclubgb.uk/event/historic-vehicle-gathering-at-powderham-castle-2/
LOCATION:Powderham Castle\, Powderham Estate\, Starcross\, Devon\, EX6 8JQ
CATEGORIES:Devon,Shows
END:VEVENT
BEGIN:VEVENT
DTSTART;TZID=Europe/London:20240714T100000
DTEND;TZID=Europe/London:20240714T113000
DTSTAMP:20260423T225846
CREATED:20240616T183339Z
LAST-MODIFIED:20240616T183339Z
UID:10001376-1720951200-1720956600@staging.bmwcarclubgb.uk
SUMMARY:North East Region Breakfast Meet
DESCRIPTION:Our next monthly breakfast meeting will be on Sunday 14th July 2024. We meet from 10.00am to 11.30am at Black Horse Beamish\, Red Row\, Beamish\, Co. Durham\, DH9 0RW. Please be there for 10am prompt if you want to join us for breakfast at discounted club rates. The Black Horse Beamish is just a short distance off the A1 so is easy to get to and has plenty of parking. We usually have a good variety of Alpinas\, BMWs and Modern Minis – classics\, moderns\, daily drivers and a scattering of Ms. Non-BMWs are also OK! Look for the big group somewhere in the pub building\, or hanging around the cars down by the Car Barn on a sunny day. This meeting is open to members and non-members.
URL:https://staging.bmwcarclubgb.uk/event/north-east-region-breakfast-meet-34/
CATEGORIES:North East
ATTACH;FMTTYPE=image/jpeg:https://staging.bmwcarclubgb.uk/wp-content/uploads/2024/04/Black-Horse-Aug-2022-2-scaled.jpg
END:VEVENT
BEGIN:VEVENT
DTSTART;VALUE=DATE:20240720
DTEND;VALUE=DATE:20240722
DTSTAMP:20260423T225846
CREATED:20230217T161031Z
LAST-MODIFIED:20240214T104229Z
UID:10001010-1721433600-1721606399@staging.bmwcarclubgb.uk
SUMMARY:Classic Nostalgia at Shelsley Walsh
DESCRIPTION:CLASSIC NOSTAGIA – Saturday 20th July – Sunday 21st July \nCome & join us for an action packed weekend of competitive hill climb racing\, thrilling demos\, spectacular classic & vintage cars & motorbike displays\, celebrity drivers 90s Touring Cars\, Group B rally cars\, parades\, car club displays\, trade stands & live vintage inspired entertainment. \nEarly Bird Ticket: £15 per person (for bookings made before 30 April 2024) – Advanced Ticket: £20 per person \nMAC Member tickets are Free but still need to be booked via the Nostalgia website. \nFurther details on this event can be found on our Facebook group page or by visiting www.classicnostagia.co.uk  \nAnyone who would like to come along & show their car will need to book via the Nostalgia website link here selecting BMW Car Club GB (Central West Region) from the dropdown list & they will dedicate us a space depending on the number of cars booked. \nBOOKING DEADLINE IS FRIDAY 7th JULY \nAny questions feel free to email me Dean Greenfield at bmwccgbcentralwest@gmail.com
URL:https://staging.bmwcarclubgb.uk/event/classic-nostalgia-at-shelsley-walsh-2/
LOCATION:Shelsley Walsh\, Shelsley walsh\, Worcestershire\, WR6 6RP\, United Kingdom
CATEGORIES:Central West
ATTACH;FMTTYPE=image/jpeg:https://staging.bmwcarclubgb.uk/wp-content/uploads/2023/02/CN_2024_Ad.jpg
ORGANIZER;CN="Dean Greenfield":MAILTO:bmwccgbcentralwest@gmail.com
END:VEVENT
BEGIN:VEVENT
DTSTART;TZID=Europe/London:20240721T080000
DTEND;TZID=Europe/London:20240721T170000
DTSTAMP:20260423T225846
CREATED:20240703T114318Z
LAST-MODIFIED:20240703T114318Z
UID:10001382-1721548800-1721581200@staging.bmwcarclubgb.uk
SUMMARY:Sherborne Classic
DESCRIPTION:With just over two weeks to go we have a limited number of tickets available\, should you wish to put your car on our Club Stand. As in previous years we will be situated in the grounds of Sherborne Castle in Dorset\, amongst a host of car clubs and several hundred car enthusiasts. \nTickets are £15 and cover each car\, show entry for a maximum of 2 adult occupants per car\, free showguide and an exhibitor car pass. Any additional adult occupants must purchase separate Public Entry tickets and bring them on the day. Children under 16 are free. \nPlease contact Tim Maltby on timsharknose@outlook.com \nMobile 07885 252448
URL:https://staging.bmwcarclubgb.uk/event/sherborne-classic-2/
LOCATION:Sherborne Castle\, New Road\, Sherborne\, Dorset\, DT9 5NR
CATEGORIES:Wessex
ORGANIZER;CN="Tim Maltby":MAILTO:timsharknose@outlook.com
END:VEVENT
BEGIN:VEVENT
DTSTART;TZID=Europe/London:20240728T100000
DTEND;TZID=Europe/London:20240728T140000
DTSTAMP:20260423T225846
CREATED:20240616T181913Z
LAST-MODIFIED:20240616T181913Z
UID:10001374-1722160800-1722175200@staging.bmwcarclubgb.uk
SUMMARY:River Run
DESCRIPTION:Midnight and Fiona would like to take you for a run up the River Coquet\, starting at the sea (Amble) and heading inland to near the source at Alwitton. The run will see you follow the river through villages like\, Felton\, Rothbury and Harbottle and finally reaching Clennell Hall NE65 7BG\, where a lovely Sunday lunch will be provided at £20 for three courses. We will be meeting at the Amble Inn\, NE65 OFF at 10 am for a 10:15 departure. Please note a few things\, route will depend on road closures\, some roads are off the beaten track\, we may be stopping in Rothbury for photos/regroup and finally\, four legged friends and children are welcome!
URL:https://staging.bmwcarclubgb.uk/event/river-run/
LOCATION:Coquet Valley
CATEGORIES:North East
ATTACH;FMTTYPE=image/jpeg:https://staging.bmwcarclubgb.uk/wp-content/uploads/2024/06/River-Run-2024.jpg
END:VEVENT
BEGIN:VEVENT
DTSTART;TZID=Europe/London:20240728T100000
DTEND;TZID=Europe/London:20240728T160000
DTSTAMP:20260423T225846
CREATED:20240307T154312Z
LAST-MODIFIED:20240603T164412Z
UID:10001346-1722160800-1722182400@staging.bmwcarclubgb.uk
SUMMARY:Riviera Classic Car Show\, Paignton Green UPDATE 3/6/24 - CANCELLED
DESCRIPTION:UPDATE 3/6/24 – THIS SHOW HAS BEEN CANCELLED. I have just had it confirmed that\, due to the Council giving the fairground priority\, this show has been cancelled. Torbay Old Wheels will be refunding to anyone who has booked. This is disappointing as it is the second car show at this venue to be cancelled this year. \n  \n 
URL:https://staging.bmwcarclubgb.uk/event/riviera-classic-car-show-paignton-green/
LOCATION:Paignton Green\, Paignton Grren\, Paignton\, Devon\, TQ4 6BW
CATEGORIES:Devon,Shows
END:VEVENT
END:VCALENDAR