BEGIN:VCALENDAR
VERSION:2.0
PRODID:-//BMW Car Club GB - ECPv6.15.14//NONSGML v1.0//EN
CALSCALE:GREGORIAN
METHOD:PUBLISH
X-WR-CALNAME:BMW Car Club GB
X-ORIGINAL-URL:https://staging.bmwcarclubgb.uk
X-WR-CALDESC:Events for BMW Car Club GB
REFRESH-INTERVAL;VALUE=DURATION:PT1H
X-Robots-Tag:noindex
X-PUBLISHED-TTL:PT1H
BEGIN:VTIMEZONE
TZID:Europe/London
BEGIN:DAYLIGHT
TZOFFSETFROM:+0000
TZOFFSETTO:+0100
TZNAME:BST
DTSTART:20230326T010000
END:DAYLIGHT
BEGIN:STANDARD
TZOFFSETFROM:+0100
TZOFFSETTO:+0000
TZNAME:GMT
DTSTART:20231029T010000
END:STANDARD
BEGIN:DAYLIGHT
TZOFFSETFROM:+0000
TZOFFSETTO:+0100
TZNAME:BST
DTSTART:20240331T010000
END:DAYLIGHT
BEGIN:STANDARD
TZOFFSETFROM:+0100
TZOFFSETTO:+0000
TZNAME:GMT
DTSTART:20241027T010000
END:STANDARD
BEGIN:DAYLIGHT
TZOFFSETFROM:+0000
TZOFFSETTO:+0100
TZNAME:BST
DTSTART:20250330T010000
END:DAYLIGHT
BEGIN:STANDARD
TZOFFSETFROM:+0100
TZOFFSETTO:+0000
TZNAME:GMT
DTSTART:20251026T010000
END:STANDARD
END:VTIMEZONE
BEGIN:VEVENT
DTSTART;TZID=Europe/London:20240428T090000
DTEND;TZID=Europe/London:20240428T160000
DTSTAMP:20260423T184727
CREATED:20240216T084632Z
LAST-MODIFIED:20240424T072637Z
UID:10001333-1714294800-1714320000@staging.bmwcarclubgb.uk
SUMMARY:BMW Sunday (Southern Concours) at Sherborne Castle UPDATED 24/4/24
DESCRIPTION:Always a popular event and kicks off the concours season in the South West. It is run by our neighbours in Western Region in a stunning setting. \nThis event is by individual entry\, although a number of Devon members attend. If you wish to enter your car in any of the concours classes\, including Show & Shine\, please contact Nigel Smith at western@bmwcarclubgb.co.uk or 01963 362002 to advise him of your vehicle details and the class you will be entering. \nPlease note that that although the gardens will be open\, the castle does not open until 3rd May.
URL:https://staging.bmwcarclubgb.uk/event/bmw-sunday-southern-concours-at-sherborne-castle/
LOCATION:Sherborne Castle\, New Road\, Sherborne\, Dorset\, DT9 5NR
CATEGORIES:Devon,Shows
END:VEVENT
END:VCALENDAR