BEGIN:VCALENDAR
VERSION:2.0
PRODID:-//BMW Car Club GB - ECPv6.15.14//NONSGML v1.0//EN
CALSCALE:GREGORIAN
METHOD:PUBLISH
X-ORIGINAL-URL:https://staging.bmwcarclubgb.uk
X-WR-CALDESC:Events for BMW Car Club GB
REFRESH-INTERVAL;VALUE=DURATION:PT1H
X-Robots-Tag:noindex
X-PUBLISHED-TTL:PT1H
BEGIN:VTIMEZONE
TZID:Europe/London
BEGIN:DAYLIGHT
TZOFFSETFROM:+0000
TZOFFSETTO:+0100
TZNAME:BST
DTSTART:20240331T010000
END:DAYLIGHT
BEGIN:STANDARD
TZOFFSETFROM:+0100
TZOFFSETTO:+0000
TZNAME:GMT
DTSTART:20241027T010000
END:STANDARD
BEGIN:DAYLIGHT
TZOFFSETFROM:+0000
TZOFFSETTO:+0100
TZNAME:BST
DTSTART:20250330T010000
END:DAYLIGHT
BEGIN:STANDARD
TZOFFSETFROM:+0100
TZOFFSETTO:+0000
TZNAME:GMT
DTSTART:20251026T010000
END:STANDARD
BEGIN:DAYLIGHT
TZOFFSETFROM:+0000
TZOFFSETTO:+0100
TZNAME:BST
DTSTART:20260329T010000
END:DAYLIGHT
BEGIN:STANDARD
TZOFFSETFROM:+0100
TZOFFSETTO:+0000
TZNAME:GMT
DTSTART:20261025T010000
END:STANDARD
END:VTIMEZONE
BEGIN:VEVENT
DTSTART;TZID=Europe/London:20250809T090000
DTEND;TZID=Europe/London:20250809T160000
DTSTAMP:20260421T010112
CREATED:20250722T132543Z
LAST-MODIFIED:20250722T132543Z
UID:10001739-1754730000-1754755200@staging.bmwcarclubgb.uk
SUMMARY:Pistonheads Annual Service
DESCRIPTION:Good news! We as a club have been asked to display on the day \, I am happy to have as many regional flags and series flags flying as we can if you would like to join us \, We are now issuing discount codes for car clubs. The discount code for The BMW Car Club GB is BMWCCGB10.\n\nAs a reminder\, a ticket entitles the holder to:\n– 10% off the standard ticket price\n– Early entry to the event\n– Exclusive club parking\n– Inclusion in the club display\n\nIf you have purchased an early-bird ticket\, please let Anthony (london@bmwcarclubgb.co.uk) know and you will be able to access the club parking. If you have purchased a standard ticket\, you are able to refund the ticket and purchase a new one at the discounted price.\nAny members who do not arrive in a BMW will not be permitted parking in the club area.\n\nTo redeem the discount\, please follow these steps:\n– Visit the Eventbrite site\nhttps://www.eventbrite.co.uk\n– Click the orange Get Tickets button (bottom of the screen on mobile\, or on the right if on a desktop)\nIn the Promo Code box at the top\, enter\n\nBMWCCGB10 \n\nand click apply.\n– The BMW Car Club GB ticket will appear.  You can add child tickets by scrolling down.\n– Once tickets are selected\, tap Check Out and complete the booking.\n\nLooking forward to seeing you all there
URL:https://staging.bmwcarclubgb.uk/event/pistonheads-annual-service/
LOCATION:Bicester Heritage\, Buckingham Road\, Bicester\, Oxfordshire\, OX27 8AL\, United Kingdom
CATEGORIES:London,Shows
ATTACH;FMTTYPE=image/png:https://staging.bmwcarclubgb.uk/wp-content/uploads/2025/07/thumbnail_image-2.png
END:VEVENT
BEGIN:VEVENT
DTSTART;TZID=Europe/London:20250830T090000
DTEND;TZID=Europe/London:20250830T170000
DTSTAMP:20260421T010112
CREATED:20250224T160811Z
LAST-MODIFIED:20250224T160811Z
UID:10001654-1756544400-1756573200@staging.bmwcarclubgb.uk
SUMMARY:Salon Privé Club Trophy 2025
DESCRIPTION:We’re very pleased to announce the BMW Car Club has been selected as an invited car club to attend Salon Privé Club Trophy on Saturday 30th August. \nSet on the stunning grounds of Blenheim Palace\, Club Trophy presented by Lockton is the ultimate automotive garden party. \nWith over 1\,500 club cars displayed on the North Lawns\, as well as displaying their BMW’s\, members will also be able to access the South Lawn with manufacturer stands\, luxury retail village\, additional car displays\, hospitality\, concessions and concours judging. \nOne lucky member will win a concours award and go home with a prestigious trophy! \nA preferential club rate is available\, saving £5 on the standard entry ticket\, to include parking in the BMW Club Paddock. To book go to \nSalon Privé Car Clubs – Salon Privé \nFor further information on this please contact the Concours Team Dan Wood and Jonathan Beattie
URL:https://staging.bmwcarclubgb.uk/event/salon-prive-club-trophy-2025/
LOCATION:BLENHEIM PALACE\, Woodstock\, Oxfordshire\, OX20 1UL\, United Kingdom
CATEGORIES:All Regions,Concours,Shows
ATTACH;FMTTYPE=image/jpeg:https://staging.bmwcarclubgb.uk/wp-content/uploads/2025/02/BMW_Z8_Club_Trophy.jpg
ORGANIZER;CN="Concours J Beattie & D Wood":MAILTO:concours@bmwcarclubgb.co.uk
END:VEVENT
END:VCALENDAR