BEGIN:VCALENDAR
VERSION:2.0
PRODID:-//BMW Car Club GB - ECPv6.15.14//NONSGML v1.0//EN
CALSCALE:GREGORIAN
METHOD:PUBLISH
X-ORIGINAL-URL:https://staging.bmwcarclubgb.uk
X-WR-CALDESC:Events for BMW Car Club GB
REFRESH-INTERVAL;VALUE=DURATION:PT1H
X-Robots-Tag:noindex
X-PUBLISHED-TTL:PT1H
BEGIN:VTIMEZONE
TZID:Europe/London
BEGIN:DAYLIGHT
TZOFFSETFROM:+0000
TZOFFSETTO:+0100
TZNAME:BST
DTSTART:20230326T010000
END:DAYLIGHT
BEGIN:STANDARD
TZOFFSETFROM:+0100
TZOFFSETTO:+0000
TZNAME:GMT
DTSTART:20231029T010000
END:STANDARD
BEGIN:DAYLIGHT
TZOFFSETFROM:+0000
TZOFFSETTO:+0100
TZNAME:BST
DTSTART:20240331T010000
END:DAYLIGHT
BEGIN:STANDARD
TZOFFSETFROM:+0100
TZOFFSETTO:+0000
TZNAME:GMT
DTSTART:20241027T010000
END:STANDARD
BEGIN:DAYLIGHT
TZOFFSETFROM:+0000
TZOFFSETTO:+0100
TZNAME:BST
DTSTART:20250330T010000
END:DAYLIGHT
BEGIN:STANDARD
TZOFFSETFROM:+0100
TZOFFSETTO:+0000
TZNAME:GMT
DTSTART:20251026T010000
END:STANDARD
END:VTIMEZONE
BEGIN:VEVENT
DTSTART;VALUE=DATE:20240609
DTEND;VALUE=DATE:20240610
DTSTAMP:20260423T191216
CREATED:20240216T103742Z
LAST-MODIFIED:20240216T103742Z
UID:10001335-1717891200-1717977599@staging.bmwcarclubgb.uk
SUMMARY:Lyn Valley Classic at Lynton
DESCRIPTION:9th (Sunday) Lyn Valley Classic. 08:00-16:00. Potential attendance as a club\, but tickets need to be bought individually. UPDATED 26/1/24 From the event website Classics & Sports|Lyn Valley Classic|Lynmouth|Lynton|England: \n \nGet ready for an unforgettable experience at the 2024 Lyn Valley Classic. Immerse yourself in a day of automotive wonder\, set against the breathtaking backdrop of Lynton and Lynmouth\, all while supporting worthy causes. Feast your eyes on a dazzling array of classic cars\, tractors\, supercars\, motorbikes\, and more. Each exhibit showcases the dedication and passion of their owners\, who graciously pay to share their prized possessions with you. The event forgoes competition\, as every entry holds a unique story and significance to its owner. The Lyn Valley Classic\, which began in 2014\, was born from the vision of local business owners passionate about motorized vehicles and their desire to support local charities while highlighting the beauty of their twin villages. From a humble gathering of 12 cars\, the Lyn Valley Classic has grown exponentially and is now supported by generous volunteers\, sponsors\, the Town Council\, and exhibitors. This event not only offers an incredible automotive experience but also holds great importance as a visitor attraction for Lynton & Lynmouth and the surrounding area. It boosts local tourism and trade\, brings the community together\, and helps showcase the stunning natural environment of this beautiful area.  \n\nThe Lyn Valley’s awe-inspiring coastline\, rolling hills of the Exmoor National Park provide a spectacular setting that complements the event perfectly. We extend our gratitude to the car owners\, clubs\, and businesses that bring their cherished machines for all to admire. Their generosity\, along with the donations from visitors\, ensures the continued success of the Lyn Valley Classic and its positive impact on the community. So come\, explore\, and indulge in the enchanting world of the Lyn Valley Classic while discovering the charm of Lynton and Lynmouth. Cost is £15 per vehicle which includes 2 people.
URL:https://staging.bmwcarclubgb.uk/event/lyn-valley-classic-at-lynton/
LOCATION:Lee Road\, Lynton\, Lee Road\, Lynton\, Devon\, EX35 6\, United Kingdom
CATEGORIES:Devon,Shows
END:VEVENT
BEGIN:VEVENT
DTSTART;TZID=Europe/London:20240615T100000
DTEND;TZID=Europe/London:20240616T160000
DTSTAMP:20260423T191216
CREATED:20240417T135248Z
LAST-MODIFIED:20240520T091751Z
UID:10001359-1718445600-1718553600@staging.bmwcarclubgb.uk
SUMMARY:Plymouth Motor Show UPDATED 20/5/24
DESCRIPTION:UPDATED 20/5/24 \nA new event on our calendar\, albeit well established and taking place on the same weekend as the now-cancelled Sommerfest – 15th & 16th June\, open to the public at 10:00 so we will need to be there for 09:00 to set up our display. \nTickets are by by individual entry\, via the organiser’s website (link below) but if we will be parking together as a club. Cornwall Region will be joining us. \nIt is taking place at Plymstock Albion Oaks Rugby Football Club\, Horsham Playing Fields\, Wembury Road\, Staddiscombe\, Plymouth\, PL9 0DF. The organisers have advised that: \n“There is no limit to the number of cars that the club can enter the show\, just let us know if you expect more than 10 cars as we can reserve an area for you. There is no age limit for exhibits. \nThe £5 ticket price covers the car and its driver\, an additional £5 per person is required for anyone else in the vehicle\, under 16’s are free. There is a facility to pay on the gate on the day\, either card or cash.” \nWebsite: HOME | My Site 1 (plymouthmotorshow.com) \nEventbrite ticket booking site: Plymouth Motor Show 15th & 16th June 2024 Tickets\, Sat 15 Jun 2024 at 10:00 | Eventbrite \nTHE TICKETS COVER ONE OR BOTH DAYS. \nCan anyone who is intending to go\, please let Phil know which day(s) as soon as possible\, so that a pitch can be booked.
URL:https://staging.bmwcarclubgb.uk/event/plymouth-motor-show/
LOCATION:Horsham Playing Fields\, Wembury Road\, Staddiscombe\, Plymouth\, Devon\, PL9 0DF\, United Kingdom
CATEGORIES:Devon,Future Events,Shows
ORGANIZER;CN="Plymouth Motor Show":MAILTO:plymouthmotorshow@outlook.com
END:VEVENT
BEGIN:VEVENT
DTSTART;TZID=Europe/London:20240622T080000
DTEND;TZID=Europe/London:20240623T170000
DTSTAMP:20260423T191216
CREATED:20240312T114956Z
LAST-MODIFIED:20240312T114956Z
UID:10001347-1719043200-1719162000@staging.bmwcarclubgb.uk
SUMMARY:Thruxton Historic 2024
DESCRIPTION:Another year and another Thruxton Historic weekend of races. We have booked our club display with Thruxton and please follow the info below to order your ticket(s).Once booked please could you let me know what car you plan to bring. \ntimsharknose@outlook.com or text 07885 252448 \nTo purchase discounted car club tickets and supply vehicle details for a free club display vehicle pass visit the dedicated car club ticket booking page (see link below). Each order allows you to book one free vehicle display pass with the driver and any passenger tickets. \nAdult Car Club Tickets:\nOne day £15\nWeekend £28 \nChildren 15 years and under admitted free with an adult ticket holder. \nBook here:\nhttps://thruxtonracing.co.uk/th-car-club-2024 \nOnce on the above webpage\, scroll down\, select a ticket type/day\, and click ‘ADD TO BASKET’ \nClick ‘CHECKOUT NOW’ to go to your basket where you can amend ticket quantities. \nEnter code BMWCC245TH in the DISCOUNT CODE field (bottom left of the basket) click APPLY to activate the discount\, repeat for each ticket type on the order. \nPlease check the total before clicking PROCEED TO CHECKOUT \nCar Club tickets must be booked by 2pm Monday 17th June. Tickets and display vehicle passes will be sent to club members by first class post on or before this date.
URL:https://staging.bmwcarclubgb.uk/event/thruxton-historic-2024/
LOCATION:Thruxton Circuit\, Andover\, Hampshire\, SP11 8PN
CATEGORIES:Future Events,Shows,Wessex
ATTACH;FMTTYPE=image/jpeg:https://staging.bmwcarclubgb.uk/wp-content/uploads/2024/03/1710243905080-92bcd42b-d947-4f8e-aba1-55f5c2eaedfa_1.jpg
END:VEVENT
BEGIN:VEVENT
DTSTART;TZID=Europe/London:20240623T080000
DTEND;TZID=Europe/London:20240623T170000
DTSTAMP:20260423T191216
CREATED:20220315T180030Z
LAST-MODIFIED:20240408T103643Z
UID:10000650-1719129600-1719162000@staging.bmwcarclubgb.uk
SUMMARY:BMW SHOW 2024
DESCRIPTION:The BMW Show at Santa Pod Raceway is back again for 2024 and all BMWs are welcome including race cars\, show cars\, modern\, retros\, classics\, new minis and BMW bikes.\n\nThis year the BMW Car Club GB will be represented by the Central West Region. We have initially booked 10 spaces in the Orange Zone & would ideally like confirm spaces before the end of April so please arrange payment before then. Further details on this event can be found at https://bmwshow.co.uk\n\nTickets & passes along with meeting details will be posted out no later than 3 weeks prior to the event.\n\nAnyone wishing to attend this event should contact Dean Greenfield by email at bmwccgbcentralwest@gmail.com or visit our Facebook events page
URL:https://staging.bmwcarclubgb.uk/event/bmw-show-2024/
LOCATION:Santa Pod\, Airfield Road\, Poddington\, Wellingborough\, Northants\, NN29 7XA\, United Kingdom
CATEGORIES:Central West,Future Events,Shows
ATTACH;FMTTYPE=image/jpeg:https://staging.bmwcarclubgb.uk/wp-content/uploads/2022/03/BMW-SHOW-Header.jpg
ORGANIZER;CN="Dean Greenfield":MAILTO:bmwccgbcentralwest@gmail.com
END:VEVENT
END:VCALENDAR