BEGIN:VCALENDAR
VERSION:2.0
PRODID:-//BMW Car Club GB - ECPv6.15.14//NONSGML v1.0//EN
CALSCALE:GREGORIAN
METHOD:PUBLISH
X-ORIGINAL-URL:https://staging.bmwcarclubgb.uk
X-WR-CALDESC:Events for BMW Car Club GB
REFRESH-INTERVAL;VALUE=DURATION:PT1H
X-Robots-Tag:noindex
X-PUBLISHED-TTL:PT1H
BEGIN:VTIMEZONE
TZID:Europe/London
BEGIN:DAYLIGHT
TZOFFSETFROM:+0000
TZOFFSETTO:+0100
TZNAME:BST
DTSTART:20240331T010000
END:DAYLIGHT
BEGIN:STANDARD
TZOFFSETFROM:+0100
TZOFFSETTO:+0000
TZNAME:GMT
DTSTART:20241027T010000
END:STANDARD
BEGIN:DAYLIGHT
TZOFFSETFROM:+0000
TZOFFSETTO:+0100
TZNAME:BST
DTSTART:20250330T010000
END:DAYLIGHT
BEGIN:STANDARD
TZOFFSETFROM:+0100
TZOFFSETTO:+0000
TZNAME:GMT
DTSTART:20251026T010000
END:STANDARD
BEGIN:DAYLIGHT
TZOFFSETFROM:+0000
TZOFFSETTO:+0100
TZNAME:BST
DTSTART:20260329T010000
END:DAYLIGHT
BEGIN:STANDARD
TZOFFSETFROM:+0100
TZOFFSETTO:+0000
TZNAME:GMT
DTSTART:20261025T010000
END:STANDARD
END:VTIMEZONE
BEGIN:VEVENT
DTSTART;TZID=Europe/London:20250607T090000
DTEND;TZID=Europe/London:20250607T120000
DTSTAMP:20260420T135714
CREATED:20250512T161555Z
LAST-MODIFIED:20250512T161932Z
UID:10001682-1749286800-1749297600@staging.bmwcarclubgb.uk
SUMMARY:Breakfast Meet - Sherburn Aero Club\, New Lennerton Lane\, LS25 6JE
DESCRIPTION:Our popular monthly breakfast meets continues for the summer at Sherburn Aero Club. We can’t park on the apron now but we will have even more space on the grass next to the apron. Look out for the direction signs when you arrive. The Sherburn breakfast meets will continue up to and including the September 6th meet. For the October 2025 to April 2026 meets\, we will be at The Motorist. Easy to remember\, the first Saturday of every month. \nOur breakfast meets are open to all BMW\, Alpina\, and modern MINI owners and enthusiasts\, club members or not. We are an inclusive group looking to enhance the enjoyment for all owners and enthusiasts. If you want to support our activities and get more involved\, as well as receive a glossy monthly magazine and lots of other perks\, do think about joining the BMW Car Club GB\, the ONLY official BMW owners club in the UK recognised and supported by BMW.
URL:https://staging.bmwcarclubgb.uk/event/eastern-breakfast-meet-2/2025-06-07/
LOCATION:Sherburn Aero Club\, New Lennerton Lane\, Sherburn In Elmet\, LS25 6JE ·\, United Kingdom
CATEGORIES:Eastern,Meets
ATTACH;FMTTYPE=image/jpeg:https://staging.bmwcarclubgb.uk/wp-content/uploads/2025/01/20241102_103628-scaled.jpg
ORGANIZER;CN="Eastern region":MAILTO:eastern@bmwcarclub.co.uk
END:VEVENT
BEGIN:VEVENT
DTSTART;TZID=Europe/London:20250612T183000
DTEND;TZID=Europe/London:20250612T220000
DTSTAMP:20260420T135714
CREATED:20250104T181119Z
LAST-MODIFIED:20250105T141706Z
UID:10001494-1749753000-1749765600@staging.bmwcarclubgb.uk
SUMMARY:Monthly Evening Meet - The British Oak\, Mosborough\, Sheffield
DESCRIPTION:Join the Eastern Region for a monthly evening get together at The British Oak\, Mosborough\, Sheffield S20 5AY from 6.30pm to 10pm. \nThe evening meet happens on the second Thursday of every month. \nThe British Oak has a wide range of drinks on offer along with a menu full of Great British Classics. \nWe have our own reserved area within the pub but on those warm evenings you can find us outside in the large and inviting beer garden. \nThe British Oak has two sizeable car parks available and we try to park in the larger car park at the rear of the pub. \nCome along and join us for some friendly conversation and some obligatory tyre kicking (weather permitting). Don’t be shy\, come and say Hi !!! \n 
URL:https://staging.bmwcarclubgb.uk/event/monthly-evening-meet-the-british-oak-mosborough-sheffield/2025-06-12/
LOCATION:The British Oak\, Sheffield\, 1 Mosborough Moor\, Sheffield\, South Yorkshire\, S20 5AY\, United Kingdom
CATEGORIES:Eastern,Meet up,Meets
ATTACH;FMTTYPE=image/jpeg:https://staging.bmwcarclubgb.uk/wp-content/uploads/2024/12/The-British-Oak-1.jpeg
ORGANIZER;CN="Eastern region":MAILTO:eastern@bmwcarclub.co.uk
END:VEVENT
BEGIN:VEVENT
DTSTART;TZID=Europe/London:20250622T080000
DTEND;TZID=Europe/London:20250622T170000
DTSTAMP:20260420T135714
CREATED:20250113T093811Z
LAST-MODIFIED:20250525T131711Z
UID:10001632-1750579200-1750611600@staging.bmwcarclubgb.uk
SUMMARY:BMW Show\, Santa Pod 2025
DESCRIPTION:The BMW Car Club GB will be attending the BMW Show at Santa Pod Raceway\, Airfield Road\, Poddington NN29 7XA on Sunday 22nd June 2025. All BMWs are welcome including race cars\, show cars\, modern\, retros\, classics\, modern MINIs\, Alpinas  and BMW bikes. https://bmwshow.co.uk/index.php \nFor this year’s show the club stand will be run by Central West Region along with attendance from the BMW Car Club GB.  We have 60 reserved spaces which this year members can book directly online by visiting the Santa Pod website. Discounted Club Driver Display Tickets for Club members are activated using the code available here: https://bmwcarclubgb.uk/2025/01/13/bmw-show-santa-pod-2025/ \nA number of Club members will be camping on the night before\, and members are welcome to join them. \nNOTE: You should only choose a CLUB DRIVER TICKET if you are displaying a car. Passengers should just buy an Adult or Child Ticket. \nBooking Instructions: \n1) Click Santa Pod booking link (https://santapodtickets.com/p/bmwshow)\n2) Enter club display code and submit\n3) Select Sunday Admission Club if you are visiting for the day\, or Weekend Admission if you want to camp on the Saturday night.\n4) Click Next\n5) Enter Email Address\n6) Continue through the Payment process. \nOnce you have bought your ticket please email Dean at bmwccgbcentralwest@gmail.com with your name\, registration and model of car\, number of people attending and your address. \nWe look forward to seeing you at this event.
URL:https://staging.bmwcarclubgb.uk/event/bmw-show-santa-pod-2025/
LOCATION:Santa Pod\, Airfield Road\, Poddington\, Wellingborough\, Northants\, NN29 7XA\, United Kingdom
CATEGORIES:Central,Central West,Future Events,National Event
ATTACH;FMTTYPE=image/jpeg:https://staging.bmwcarclubgb.uk/wp-content/uploads/2025/01/BMW-show-25-banner-web.jpg
END:VEVENT
END:VCALENDAR