BEGIN:VCALENDAR
VERSION:2.0
PRODID:-//BMW Car Club GB - ECPv6.15.14//NONSGML v1.0//EN
CALSCALE:GREGORIAN
METHOD:PUBLISH
X-ORIGINAL-URL:https://staging.bmwcarclubgb.uk
X-WR-CALDESC:Events for BMW Car Club GB
REFRESH-INTERVAL;VALUE=DURATION:PT1H
X-Robots-Tag:noindex
X-PUBLISHED-TTL:PT1H
BEGIN:VTIMEZONE
TZID:Europe/London
BEGIN:DAYLIGHT
TZOFFSETFROM:+0000
TZOFFSETTO:+0100
TZNAME:BST
DTSTART:20240331T010000
END:DAYLIGHT
BEGIN:STANDARD
TZOFFSETFROM:+0100
TZOFFSETTO:+0000
TZNAME:GMT
DTSTART:20241027T010000
END:STANDARD
BEGIN:DAYLIGHT
TZOFFSETFROM:+0000
TZOFFSETTO:+0100
TZNAME:BST
DTSTART:20250330T010000
END:DAYLIGHT
BEGIN:STANDARD
TZOFFSETFROM:+0100
TZOFFSETTO:+0000
TZNAME:GMT
DTSTART:20251026T010000
END:STANDARD
BEGIN:DAYLIGHT
TZOFFSETFROM:+0000
TZOFFSETTO:+0100
TZNAME:BST
DTSTART:20260329T010000
END:DAYLIGHT
BEGIN:STANDARD
TZOFFSETFROM:+0100
TZOFFSETTO:+0000
TZNAME:GMT
DTSTART:20261025T010000
END:STANDARD
END:VTIMEZONE
BEGIN:VEVENT
DTSTART;TZID=Europe/London:20250503T090000
DTEND;TZID=Europe/London:20250503T120000
DTSTAMP:20260420T154356
CREATED:20250419T110821Z
LAST-MODIFIED:20250419T121942Z
UID:10001676-1746262800-1746273600@staging.bmwcarclubgb.uk
SUMMARY:Breakfast Meet - Sherburn Aero Club\, New Lennerton Lane\, LS25 6JE
DESCRIPTION:Our popular monthly breakfast meets continues for the summer at Sherburn Aero Club. We can’t park on the apron now but we will have even more space on the grass next to the apron. Look out for the direction signs when you arrive. The Sherburn breakfast meets will continue up to and including the September 6th meet. For the October 2025 to April 2026 meets\, we will be at The Motorist. Easy to remember\, the first Saturday of every month. \nOur breakfast meets are open to all BMW\, Alpina\, and modern MINI owners and enthusiasts\, club members or not. We are an inclusive group looking to enhance the enjoyment for all owners and enthusiasts. If you want to support our activities and get more involved\, as well as receive a glossy monthly magazine and lots of other perks\, do think about joining the BMW Car Club GB\, the ONLY official BMW owners club in the UK recognised and supported by BMW.
URL:https://staging.bmwcarclubgb.uk/event/eastern-breakfast-meet/
LOCATION:Sherburn Aero Club\, New Lennerton Lane\, Sherburn In Elmet\, LS25 6JE ·\, United Kingdom
CATEGORIES:Eastern,Meets
ATTACH;FMTTYPE=image/jpeg:https://staging.bmwcarclubgb.uk/wp-content/uploads/2025/01/20241102_103628-scaled.jpg
ORGANIZER;CN="Eastern region":MAILTO:eastern@bmwcarclub.co.uk
END:VEVENT
BEGIN:VEVENT
DTSTART;TZID=Europe/London:20250503T090000
DTEND;TZID=Europe/London:20250503T160000
DTSTAMP:20260420T154356
CREATED:20250106T171220Z
LAST-MODIFIED:20250110T205651Z
UID:10001620-1746262800-1746288000@staging.bmwcarclubgb.uk
SUMMARY:Lincolnshire Aviation Heritage Centre\, PE23 4DE
DESCRIPTION:BMW Car Club Eastern Region is excited to announce this new event for 2025. We have been granted special permission by the Lincolnshire Aviation Heritage Centre owners to park our pride and joy’s inside the museum near the hangar for all to see. \nWe have been given a reduced entry rate of £10.00 per person (not car) which we have been asked to collect in advance of the visit\, this is a request from the venue for a one off group booking. Please mark as going so we can get an idea of numbers in advance. If you would like to attended please message Chris Lake directly on Facebook to arrange payment or email eastern@bmwcarclubgb.co.uk with your contact details so that we can contact you to arrange payment. \nThe venue opening times are 09:30 – 16:00 however we would suggest we aim to meet there for 09:00 so we can get inside and parked up before the general public arrive. We know you all love a good breakfast so fear not there is a great on site café serving hot food and drink all day. \nThe reason for us creating this event is down to long time member Andrew Everett who kindly donated his uncles Distinguished Flying Cross to the Heritage Centre. When we attend this event on the 3rd of May 2025 it will be the 80th anniversary of Andrew’s uncles tragic death during the war. Here are a few words from Andrew about his Uncle……….. \nPilot Officer Robert Catterall DFC was the last allied airman killed in action in Europe in WW2. Born in Newton Le Willows\, Lancashire\, he joined the RAF as a fitter but quickly learned to fly. By 1941 he was flying bombers – mainly Wellingtons and Short Stirlings and took part in many raids over Germany and occupied France. \nBy 1944 he had transferred to Mosquitoes for precision bombing and pathfinding at 169 Squadron at Great Massingham\, Norfolk. Awarded the DFC in 1944\, there was no time to actually be presented with the medal. As the war drew to a close in April 1945\, Robert and his co pilot Flight Sergeant Donald Beadle of the Royal Air Force Volunteer Reserve were demobilised and letters sent home informing their families that their war was over. \nHowever\, there was one more job to do\, namely destroying a build up of German aircraft at Jaegel airfield near Kiel. There were fears that an element of the Luftwaffe might fly to Norway and continue the war from there. Volunteers were needed to napalm the planes and both Robert and Donald did. Six Mosquitoes flew out  on May 3rd 1945 and five came back. Their aircraft\, MM680\, was hit by anti aircraft fire and crashed. They were given a temporary grave by the Germans\, and reburied later in the War cemetery in Kiel. \nRobert’s parents Robert Snr and Adeline Catterall were invited to Buckingham Palace in 1946 where they were presented with Robert’s DFC by King George VI. \nWe really hope you can come to this event and make it as big and the best it can be. \n  \n 
URL:https://staging.bmwcarclubgb.uk/event/lincolnshire-aviation-heritage-centre-pe23-4de/
LOCATION:Lincolnshire Aviation Heritage Centre\, East Kirkby\, Spilsby\, Lincolnshire\, PE23 4DE\, United Kingdom
CATEGORIES:Eastern,Meet up,Meets
ATTACH;FMTTYPE=image/jpeg:https://staging.bmwcarclubgb.uk/wp-content/uploads/2025/01/lahc.jpg
ORGANIZER;CN="Eastern region":MAILTO:eastern@bmwcarclub.co.uk
END:VEVENT
BEGIN:VEVENT
DTSTART;TZID=Europe/London:20250508T183000
DTEND;TZID=Europe/London:20250508T220000
DTSTAMP:20260420T154356
CREATED:20250104T181119Z
LAST-MODIFIED:20250105T141706Z
UID:10001493-1746729000-1746741600@staging.bmwcarclubgb.uk
SUMMARY:Monthly Evening Meet - The British Oak\, Mosborough\, Sheffield
DESCRIPTION:Join the Eastern Region for a monthly evening get together at The British Oak\, Mosborough\, Sheffield S20 5AY from 6.30pm to 10pm. \nThe evening meet happens on the second Thursday of every month. \nThe British Oak has a wide range of drinks on offer along with a menu full of Great British Classics. \nWe have our own reserved area within the pub but on those warm evenings you can find us outside in the large and inviting beer garden. \nThe British Oak has two sizeable car parks available and we try to park in the larger car park at the rear of the pub. \nCome along and join us for some friendly conversation and some obligatory tyre kicking (weather permitting). Don’t be shy\, come and say Hi !!! \n 
URL:https://staging.bmwcarclubgb.uk/event/monthly-evening-meet-the-british-oak-mosborough-sheffield/2025-05-08/
LOCATION:The British Oak\, Sheffield\, 1 Mosborough Moor\, Sheffield\, South Yorkshire\, S20 5AY\, United Kingdom
CATEGORIES:Eastern,Meet up,Meets
ATTACH;FMTTYPE=image/jpeg:https://staging.bmwcarclubgb.uk/wp-content/uploads/2024/12/The-British-Oak-1.jpeg
ORGANIZER;CN="Eastern region":MAILTO:eastern@bmwcarclub.co.uk
END:VEVENT
BEGIN:VEVENT
DTSTART;VALUE=DATE:20250518
DTEND;VALUE=DATE:20250519
DTSTAMP:20260420T154356
CREATED:20250224T102728Z
LAST-MODIFIED:20250224T140929Z
UID:10001652-1747526400-1747612799@staging.bmwcarclubgb.uk
SUMMARY:SOUTHERN BMW
DESCRIPTION:Southern Concours announcement !!!! Put it in your diary – Sunday May 18th at a brand new venue \, Forde Abbey\, Chard. \nThis stunning new venue is the perfect back drop for our Southern Concours & Show and Shine Event https://www.fordeabbey.co.uk/. \nAfter many successful years at the previous venue Sherborne Castle\, we are really looking forward to continuing the success of this event at the truly magnificent Forde Abbey. \nALL BMW’s are welcome to enter – whether it’s your daily driver or straight out of the showroom. \n\nCompetition entry from 8:00am\nPublic viewing from 10:00am.\n\nEntry for House & Gardens is £19.00 per adult or £15.00 per adult for just gardens.\n£6.00 per child\nCoffee shop will be open for light refreshments.\n\nSouthern Concours has run for many many years and has always been brilliant event\, well supported and lots of fun. What better way to get to meet up and chat with fellow enthusiasts…..so come along and enjoy the day. \nIf you require any further information please do not hesitate to contact Nigel Smith western@bmwcarclubgb.co.uk
URL:https://staging.bmwcarclubgb.uk/event/southern-bmw/
LOCATION:Forde Abbey\, Forde Abbey Estate\, Chard\, Sommerset\, TA20 4LU\, United Kingdom
CATEGORIES:Central West,Cornwall,Cotswold,Devon,Fun,Meet up,Meets,Shows,South East,Thames,Wessex,Western
ATTACH;FMTTYPE=image/jpeg:https://staging.bmwcarclubgb.uk/wp-content/uploads/2025/02/Southern-BMW.jpg
END:VEVENT
END:VCALENDAR