BEGIN:VCALENDAR
VERSION:2.0
PRODID:-//BMW Car Club GB - ECPv6.15.14//NONSGML v1.0//EN
CALSCALE:GREGORIAN
METHOD:PUBLISH
X-WR-CALNAME:BMW Car Club GB
X-ORIGINAL-URL:https://staging.bmwcarclubgb.uk
X-WR-CALDESC:Events for BMW Car Club GB
REFRESH-INTERVAL;VALUE=DURATION:PT1H
X-Robots-Tag:noindex
X-PUBLISHED-TTL:PT1H
BEGIN:VTIMEZONE
TZID:Europe/London
BEGIN:DAYLIGHT
TZOFFSETFROM:+0000
TZOFFSETTO:+0100
TZNAME:BST
DTSTART:20240331T010000
END:DAYLIGHT
BEGIN:STANDARD
TZOFFSETFROM:+0100
TZOFFSETTO:+0000
TZNAME:GMT
DTSTART:20241027T010000
END:STANDARD
BEGIN:DAYLIGHT
TZOFFSETFROM:+0000
TZOFFSETTO:+0100
TZNAME:BST
DTSTART:20250330T010000
END:DAYLIGHT
BEGIN:STANDARD
TZOFFSETFROM:+0100
TZOFFSETTO:+0000
TZNAME:GMT
DTSTART:20251026T010000
END:STANDARD
BEGIN:DAYLIGHT
TZOFFSETFROM:+0000
TZOFFSETTO:+0100
TZNAME:BST
DTSTART:20260329T010000
END:DAYLIGHT
BEGIN:STANDARD
TZOFFSETFROM:+0100
TZOFFSETTO:+0000
TZNAME:GMT
DTSTART:20261025T010000
END:STANDARD
END:VTIMEZONE
BEGIN:VEVENT
DTSTART;TZID=Europe/London:20250406T090000
DTEND;TZID=Europe/London:20250406T130000
DTSTAMP:20260421T122634
CREATED:20250224T101830Z
LAST-MODIFIED:20250224T101830Z
UID:10001651-1743930000-1743944400@staging.bmwcarclubgb.uk
SUMMARY:BMW Breakfast Meet SUNDAY 6th April
DESCRIPTION:Join us for the WESTERN REGION BMW Breakfast meet \nOn Sunday 6th April @ 9:00am \nVenue: Stuarts café\, 1 beech Barn\, Dillington Estates\, Eaglewood Park\, Ilminster\, TA19 9DQ https://stuarts-cafe.co.uk/
URL:https://staging.bmwcarclubgb.uk/event/bmw-breakfast-meet-sunday-6th-april/
LOCATION:Stuarts Cafe\, 1 Beech Barn\, Dillington Estates\, Ilminster\, TA19 9DQ\, United Kingdom
CATEGORIES:Fun,Meet up,Meets,Western
END:VEVENT
BEGIN:VEVENT
DTSTART;TZID=Europe/London:20250410T183000
DTEND;TZID=Europe/London:20250410T220000
DTSTAMP:20260421T122634
CREATED:20250104T181119Z
LAST-MODIFIED:20250105T141706Z
UID:10001492-1744309800-1744322400@staging.bmwcarclubgb.uk
SUMMARY:Monthly Evening Meet - The British Oak\, Mosborough\, Sheffield
DESCRIPTION:Join the Eastern Region for a monthly evening get together at The British Oak\, Mosborough\, Sheffield S20 5AY from 6.30pm to 10pm. \nThe evening meet happens on the second Thursday of every month. \nThe British Oak has a wide range of drinks on offer along with a menu full of Great British Classics. \nWe have our own reserved area within the pub but on those warm evenings you can find us outside in the large and inviting beer garden. \nThe British Oak has two sizeable car parks available and we try to park in the larger car park at the rear of the pub. \nCome along and join us for some friendly conversation and some obligatory tyre kicking (weather permitting). Don’t be shy\, come and say Hi !!! \n 
URL:https://staging.bmwcarclubgb.uk/event/monthly-evening-meet-the-british-oak-mosborough-sheffield/2025-04-10/
LOCATION:The British Oak\, Sheffield\, 1 Mosborough Moor\, Sheffield\, South Yorkshire\, S20 5AY\, United Kingdom
CATEGORIES:Eastern,Meet up,Meets
ATTACH;FMTTYPE=image/jpeg:https://staging.bmwcarclubgb.uk/wp-content/uploads/2024/12/The-British-Oak-1.jpeg
ORGANIZER;CN="Eastern region":MAILTO:eastern@bmwcarclub.co.uk
END:VEVENT
BEGIN:VEVENT
DTSTART;TZID=Europe/London:20250413T093000
DTEND;TZID=Europe/London:20250413T130000
DTSTAMP:20260421T122634
CREATED:20250106T192937Z
LAST-MODIFIED:20250110T205742Z
UID:10001621-1744536600-1744549200@staging.bmwcarclubgb.uk
SUMMARY:East meets West @ The Motorist
DESCRIPTION:The annual East meets West event is back for 2025. Members from the Eastern and North West regions annual get together at The Motorist. \nThe Motorist is a petrol heads delight and is expanding all the time\, now with the Arnarge restaurant\, cafe\, shop\, workshops\, and much more. In addition to the BMW Car Club GB displays\, and reserved parking\, expect to see many more cars on the day. \nWe generally meet up for 9am at Sherburn Aero Club next door to The Motorist for breakfast\, after which we can all drive in together at 9\,30am to The Motorist\, before the venue opens to the general public. \nIf you have any questions\, please email eastern@bmwcarclubgb.co.uk or a member of your region committee.
URL:https://staging.bmwcarclubgb.uk/event/east-meets-west-the-motorist/
LOCATION:The Motorist\, Sherburn Aero club\, Sherburn in elmut\, North yorkshire
CATEGORIES:Eastern,Meet up,Meets,North East,North West
ATTACH;FMTTYPE=image/jpeg:https://staging.bmwcarclubgb.uk/wp-content/uploads/2025/01/EMW_2024.jpg
ORGANIZER;CN="Eastern region":MAILTO:eastern@bmwcarclub.co.uk
END:VEVENT
END:VCALENDAR